Workbook
Name A: #REF!
Name A: #REF!
Name ARIAL: #REF!
Name ARIAL: #REF!
Name AUX_T: #REF!
Name AUX_T: #REF!
Name CeldaCodigoDestino: "'[GENERADOR DE APUS PRUEBA.xlsm]M-100'!$C$9!M-100"
Name FI: #REF!
Name FI: #REF!
Name I: #REF!
Name I: #REF!
Name M_INCREMENTO: #REF!
Name M_INCREMENTO: #REF!
Name RangoEquipo: OFFSET(#REF!,1,0,COUNTIF(#REF!,"?*"))
Name RangoMat: OFFSET(#REF!,1,0,COUNTIF(#REF!,"?*"))
Name RangoMO: OFFSET(#REF!,1,0,COUNTIF(#REF!,"?*"))
Name SMMLV: #REF!
Name SMMLV: #REF!
Name tadministracion: #REF!
Name timprevistos: #REF!
Name TITULO1: #REF!
Name TITULO2: #REF!
Name TITULO3: #REF!
Name TITULO4: #REF!
Name TITULO6: #REF!
Name TITULO7: #REF!
Name TITULO8: #REF!
Name TITULO9: #REF!
Name tutilidad: #REF!
Name U: #REF!
Name U: #REF!

Sheet PRESUPUESTO DE OBRA
E6: VERSIÓN | F6: PRELIMINAR
B7: FECHA: SEPT 2026
B8: NOMBRE DEL PROYECTO: MATENIMIENTO Y RESTAURACION FACHADAS DE LOS BLOQUES 1, 2, 3 Y TORREON CAMPUS VALLE DEL LILI
B9: OBJETO PROYECTO: CONTRATO A TODO COSTO PARA LA REPACIÓN, MANTENIMINETO Y RESTAURACIÓN DE LAS FACHADAS DE LOS BLOQUES 1, 2, 3 Y TORREON DE LA UNIVERSIDAD LIBRE - SECCIONAL CALI
B12: PRESUPUESTO DE OBRA
B13: 1. PRELIMINARES
B14: Código | C14: Descripción | D14: U.M. | E14: Vr. Unitario | F14: Cantidad | G14: Vr. Parcial
B15: ='1.01'!$C$9 -> 1.01 | C15: ='1.01'!$C$10 -> CAMPAMENTO. ALQUILER DE CONTENEDOR PARA ALMACEN. | D15: ='1.01'!$C$11 -> MES | E15: ='1.01'!$G$38 -> 0 | F15: ='M-1.01'!$H$23 -> 5 | G15: =$F$15*$E$15 -> 0
B16: ='1.02'!$C$9 -> 1.02 | C16: ='1.02'!$C$10 -> SUMINISTRO Y OPERACIÓN DE SISTEMA Y EQUIPOS CERTIFICADOS PARA TRABAJO EN ALTURAS, INCLUYE ANDAMIOS MULTIDIRECCIONALES, ANDAMIOS COLGANTES, ARNÉS Y SISTEMA DE PROTECCIÓN CONTRA CAÍDAS. | D16: ='1.02'!$C$11 -> MES | E16: ='1.02'!$G$39 -> 0 | F16: ='M-1.02'!$H$32 -> 5 | G16: =$F$16*$E$16 -> 0
B17: SUBTOTAL PRELIMINARES | G17: =SUM($G$15:$G$16) -> 0
B18: 2. RETIROS Y DEMOLICIONES
B19: Código | C19: Descripción | D19: U.M. | E19: Vr. Unitario | F19: Cantidad | G19: Vr. Parcial
B20: ='2.01'!$C$9 -> 2.01 | C20: ='2.01'!$C$10 -> DEMOLICIONES DE REPELLO Y PINUTRA EXISTENTE EN FACHADAS. LIMPIEZA DE LA SUPERFICIE HASTA QUEDAR APTA PARA APLICAR REPELLO NUEVO. | D20: ='2.01'!$C$11 -> M2 | E20: ='2.01'!$G$39 -> 0 | F20: ='M-2.01'!$H$73 -> 8459.24 | G20: =$F$20*$E$20 -> 0
B21: ='2.02'!$C$9 -> 2.02 | C21: ='2.02'!$C$10 -> RETIRO DE ESCOMBROS INCLUYE ACARREO INTERNO, CARGUE MANUAL, Y DISPOSCION FINAL A 25KM A PUNTO AMBIENTAL AUTORIZADO. VOLUMEN SUELTO MEDIDO EN VOLQUETA | D21: ='2.02'!$C$11 -> M3 | E21: ='2.02'!$G$39 -> 0 | F21: ='M-2.02'!$H$24 -> 456.8 | G21: =$F$21*$E$21 -> 0
B22: SUBTOTAL RETIROS Y DEMOLICIONES | G22: =SUM($G$20:$G$21) -> 0
B23: 3. REPELLOS E IMPERMEABILIZACIONES
B24: Código | C24: Descripción | D24: U.M. | E24: Vr. Unitario | F24: Cantidad | G24: Vr. Parcial
B25: ='3.01'!$C$9 -> 3.01 | C25: ='3.01'!$C$10 -> SUMINISTRO E INSTALACIÓN DE IMPERMEBIALIZACIÓN CON LECHADA DE CEMENTO CON SIKALATEX O SIMILAR | D25: ='3.01'!$C$11 -> M2 | E25: ='3.01'!$G$39 -> 0 | F25: ='M-3.01'!$H$43 -> 285.3 | G25: =$F$25*$E$25 -> 0
B26: ='3.02'!$C$9 -> 3.02 | C26: ='3.02'!$C$10 -> SUMINISTRO E INSTALACIÓN DE REPELLO. INCLUYE MORTERO 1:3 IMPERMEABLIZADO CON TOXEMENT 1A O SIMILAR | D26: ='3.02'!$C$11 -> M2 | E26: ='3.02'!$G$39 -> 0 | F26: ='M-3.02'!$H$65 -> 8237.34 | G26: =$F$26*$E$26 -> 0
B27: ='3.03'!$C$9 -> 3.03 | C27: ='3.03'!$C$10 -> SUMINISTRO E INSTALACIÓN DE REPELLO PARA CARTERAS. INCLUYE MORTERO 1:3 IMPERMEABLIZADO CON TOXEMENT 1A O SIMILAR | D27: ='3.03'!$C$11 -> ML | E27: ='3.03'!$G$39 -> 0 | F27: ='M-3.03'!$H$32 -> 311.5 | G27: =$F$27*$E$27 -> 0
B28: SUBTOTAL REPELLOS E IMPERMEABILIZACIONES | G28: =SUM($G$25:$G$27) -> 0
B29: 4. ACABADOS DE FACHADA
B30: Código | C30: Descripción | D30: U.M. | E30: Vr. Unitario | F30: Cantidad | G30: Vr. Parcial
B31: ='4.01'!$C$9 -> 4.01 | C31: ='4.01'!$C$10 -> SUMINISTRO Y APLICACION GRANIPLAST ALTA CALIDAD COLOR BLANCO Y GRIS | D31: ='4.01'!$C$11 -> M2 | E31: ='4.01'!$G$38 -> 0 | F31: ='M-4.01'!$H$71 -> 8335.6 | G31: =$F$31*$E$31 -> 0
B32: ='4.02'!$C$9 -> 4.02 | C32: ='4.02'!$C$10 -> SUMINISTRO Y APLICACION GRANIPLAST ALTA CALIDAD PARA CARTERAS COLOR BLANCO Y GRIS | D32: ='4.02'!$C$11 -> ML | E32: ='4.02'!$G$38 -> 0 | F32: ='M-4.02'!$H$27 -> 438.08 | G32: =$F$32*$E$32 -> 0
B33: ='4.03'!$C$9 -> 4.03 | C33: ='4.03'!$C$10 -> DILATACIONES EN FACHADA PARA LOSAS DE ENTREPISO, VIGAS Y COLUMNAS | D33: ='4.03'!$C$11 -> ML | E33: ='4.03'!$G$39 -> 0 | F33: ='M-4.03'!$H$34 -> 2564.5 | G33: =$F$33*$E$33 -> 0
B34: ='4.04'!$C$9 -> 4.04 | C34: ='4.04'!$C$10 -> RECONSTRUCCIÓN DE ZÓCALO O MEDICA CAÑA EN FACHADAS CON MORTERO Y SIKALATEX O SMILIAR | D34: ='4.04'!$C$11 -> ML | E34: ='4.04'!$G$39 -> 0 | F34: ='M-4.04'!$H$23 -> 102 | G34: =$F$34*$E$34 -> 0
B35: ='4.05'!$C$9 -> 4.05 | C35: ='4.05'!$C$10 -> RECONSTRUCCIÓN Y REPOSICIÓN DE ALFAJIAS CON MORTERO + SIKALATEX O SIMILAR. INCLUYE DEMOLICIÓN O RETIRO DE MORTERO O ESTUCO, LIMPIEZA Y RECONSTRUCCIÓN DEL ELEMENTO Y SU GOTERO. | D35: ='4.05'!$C$11 -> ML | E35: ='4.05'!$G$41 -> 0 | F35: ='M-4.05'!$H$30 -> 280 | G35: =$F$35*$E$35 -> 0
B36: ='4.06'!$C$9 -> 4.06 | C36: ='4.06'!$C$10 -> SUMINISTRO E INSTLACIÓN DE LAMINAS DE FIBROCEMENTO 10mm PARA CUBRIR BUITRONES TRASETROS DE 1,7x4,2m | D36: ='4.06'!$C$11 -> UND | E36: ='4.06'!$G$40 -> 0 | F36: ='M-4.06'!$H$24 -> 10 | G36: =$F$36*$E$36 -> 0
B37: ='4.07'!$C$9 -> 4.07 | C37: ='4.07'!$C$10 -> SUMINISTRO Y PINTURA TIPO CORAZA BLANCA PARA CALADOS EN FACHADA. INCLUYE LIMPIEZA DE LOS ELEMENTOS Y DOS MANOS DE PINUTRA. | D37: ='4.07'!$C$11 -> M2 | E37: ='4.07'!$G$39 -> 0 | F37: ='M-4.07'!$H$33 -> 830 | G37: =$F$37*$E$37 -> 0
B38: ='4.08'!$C$9 -> 4.08 | C38: ='4.08'!$C$10 -> SUMINISTRO E INSTALACIÓN DE SISTEMA DE CUBREJUNTA EN PLATINA DE ALUMINIO PARA JUNTA ESTRUCTURAL DE FACHADA, INCLUYE REMOCIÓN DE REPELLO DETERIORADO, PREPARACIÓN DE SUPERFICIE, ANCLAJES MECÁNICOS Y SELLADO CON SILICONA | D38: ='4.08'!$C$11 -> ML | E38: ='4.08'!$G$41 -> 0 | F38: ='M-4.08'!$H$22 -> 150 | G38: =$F$38*$E$38 -> 0
B39: ='4.09'!$C$9 -> 4.09 | C39: ='4.09'!$C$10 -> SUMINISTRO E INSTALACIÓN DE PLATINAS METÁLICAS PARA DESPLAZAR PERCINAS EN ALUMUNIO EN FACHADA OCCIDENTAL. CONTEMPLA DESMONTE DE PERSIANAS,LIMPIEZA, RETIRO DE PLANTINAS EXISTENTES, MANTENIEMOIENTO Y REPOCIÓN DE ELEMENTOS PLASTICOS. | D39: ='4.09'!$C$11 -> M2 | E39: ='4.09'!$G$40 -> 0 | F39: ='M-4.09'!$H$23 -> 448 | G39: =$F$39*$E$39 -> 0
B40: SUBTOTAL ACABADOS DE FACHADA | G40: =SUM($G$31:$G$39) -> 0
B41: 5. CUBIERTA
B42: Código | C42: Descripción | D42: U.M. | E42: Vr. Unitario | F42: Cantidad | G42: Vr. Parcial
B43: ='5.01'!$C$9 -> 5.01 | C43: ='5.01'!$C$10 -> SUMINISTRO E INSTLACIÓN DE ALFAJÍAS EN ALUMINIO DE 26cm DE ANCHO COLOR NATURAL CALIBRE 16, CON GOTERO Y PUNTOS DE ANCLAJE. | D43: ='5.01'!$C$11 -> ML | E43: ='5.01'!$G$41 -> 0 | F43: ='M-5.01'!$H$22 -> 456 | G43: =$F$43*$E$43 -> 0
B44: ='5.02'!$C$9 -> 5.02 | C44: ='5.02'!$C$10 -> SUMINISTRO E INSTALACIÓN DE PINTURA CON ALUMINIO BITUMINOSO A DOS MANOS PARA IMPERMEABILIZACIÓN DE TERRAZA. INCLUYE LIMPIEZA DE LA SUPERFICIE | D44: ='5.02'!$C$11 -> M2 | E44: ='5.02'!$G$40 -> 0 | F44: ='M-5.02'!$H$22 -> 1710 | G44: =$F$44*$E$44 -> 0
B45: ='5.03'!$C$9 -> 5.03 | C45: ='5.03'!$C$10 -> SUMINISTRO E INSTALACIÓN DE PINTURA ACEITE GRIS PARA PINTAR BRAZOS DEL TECHO DE CORREDORES | D45: ='5.03'!$C$11 -> ML | E45: ='5.03'!$G$40 -> 0 | F45: ='M-5.03'!$H$25 -> 48 | G45: =$F$45*$E$45 -> 0
B46: ='5.04'!$C$9 -> 5.04 | C46: ='5.04'!$C$10 -> DESMONTAJE Y REINSTALACIÓN DEL SISTEMA DE PROTECCIÓN CONTRA RAYOS (PARARRAYOS), INCLUYENDO CABLES, VARILLAS, SOPORTES Y ACCESORIOS EXISTENTES, ASÍ COMO EL SUMINISTRO E INSTALACIÓN DE NUEVOS SOPORTES PLÁSTICOS PARA SU FIJACIÓN EN TERRAZA. | D46: ='5.04'!$C$11 -> GB | E46: ='5.04'!$G$39 -> 0 | F46: ='M-5.04'!$H$21 -> 1 | G46: =$F$46*$E$46 -> 0
B47: SUBTOTAL CUBIERTA | G47: =SUM($G$43:$G$46) -> 0
...

Sheet INSUMOS PROYECTO
B6: Materiales | G6: Equipos | L6: Mano de obra | Q6: Transporte
B7: Descripción | C7: U.M. | D7: Vr. Unitario | E7: Cantidad | F7: Vr. Parcial | G7: Descripción | H7: U.M. | I7: Vr. Unitario | J7: Cantidad | K7: Vr. Parcial | L7: Descripción | M7: U.M. | N7: Vr. Unitario | O7: Cantidad | P7: Vr. Parcial | Q7: Descripción | R7: U.M. | S7: Vr. Unitario | T7: Cantidad | U7: Vr. Parcial
B8: ='2.02'!$C$15 -> REMISIÓN O BOLETA CERTIFICADO DEL VOLTADERO | C8: ='2.02'!$D$15 -> M3 | E8: =('2.02'!$F$15*'M-2.02'!$H$24) -> 456.8 | F8: =$D$8*$E$8 -> 0 | G8: ='1.01'!$C$21 -> ALQUILER DE CONTENEDOR ESTÁNDAR DE 20 PIES | H8: ='1.01'!$D$21 -> MES | J8: =('1.01'!$F$21*'M-1.01'!$H$23) -> 5 | K8: =$I$8*$J$8 -> 0 | L8: ='2.01'!$C$28 -> AYUDANTE OBRA | M8: ='2.01'!$D$28 -> HR | N8: ='2.01'!$E$28 -> 0 | O8: =('2.01'!$F$28*'M-2.01'!$H$73)+('2.02'!$F$27*'M-2.02'!$H$24)+('4.05'!$F$30*'M-4.05'!$H$30)+('5.02'!$F$29*'M-5.02'!$H$22) -> 9770.84 | P8: =$N$8*$O$8 -> 0 | Q8: ='2.01'!$C$34 -> HERRAMIENTA Y EQUIPO MENOR | R8: ='2.01'!$D$34 -> % | T8: =('2.01'!$F$34*'M-2.01'!$H$73)+('2.02'!$F$33*'M-2.02'!$H$24)+('3.01'!$F$34*'M-3.01'!$H$43)+('3.02'!$F$34*'M-3.02'!$H$65)+('3.03'!$F$34*'M-3.03'!$H$32) -> 532.5054 | U8: =$S$8*$T$8 -> 0
B9: ='3.01'!$C$15 -> CEMENTO | C9: ='3.01'!$D$15 -> KG | E9: =('3.01'!$F$15*'M-3.01'!$H$43) -> 798.84 | F9: =$D$9*$E$9 -> 0 | G9: ='1.02'!$C$21 -> ALQUILER DE ANDAMIOS CERTIFICADOS PARA TRABAJO EN ALTURA | H9: ='1.02'!$D$21 -> MES | J9: =('1.02'!$F$21*'M-1.02'!$H$32) -> 5 | K9: =$I$9*$J$9 -> 0 | L9: ='3.01'!$C$28 -> CUADRILLA DE CONSTRUCCIÓN TIPO 1 (1 OFICIAL + 1 AYUDANTE) | M9: ='3.01'!$D$28 -> HC | N9: ='3.01'!$E$28 -> 0 | O9: =('3.01'!$F$28*'M-3.01'!$H$43)+('3.02'!$F$28*'M-3.02'!$H$65)+('3.03'!$F$28*'M-3.03'!$H$32)+('4.08'!$F$30*'M-4.08'!$H$22)+('5.01'!$F$30*'M-5.01'!$H$22) -> 5580.534 | P9: =$N$9*$O$9 -> 0 | Q9: ='2.02'!$C$34 -> VIAJE VOLQUETA A 25 KM | R9: ='2.02'!$D$34 -> M3/KM | T9: =('2.02'!$F$34*'M-2.02'!$H$24) -> 11420 | U9: =$S$9*$T$9 -> 0
B10: ='3.01'!$C$16 -> SIKALATEX | C10: ='3.01'!$D$16 -> KG | E10: =('3.01'!$F$16*'M-3.01'!$H$43)+('4.04'!$F$15*'M-4.04'!$H$23)+('4.05'!$F$15*'M-4.05'!$H$30) -> 20.938 | F10: =$D$10*$E$10 -> 0 | G10: ='1.02'!$C$22 -> EQUIPO PARA TRABAJO EN ALTURA | H10: ='1.02'!$D$22 -> MES | J10: =('1.02'!$F$22*'M-1.02'!$H$32) -> 5 | K10: =$I$10*$J$10 -> 0 | L10: ='4.01'!$C$27 -> CUADRILLA PINTURA TIPO 1 (1 OFICIAL PINTOR + 1 AYUDANTES PINTOR) | M10: ='4.01'!$D$27 -> HC | N10: ='4.01'!$E$27 -> 0 | O10: =('4.01'!$F$27*'M-4.01'!$H$71)+('4.02'!$F$27*'M-4.02'!$H$27)+('4.03'!$F$28*'M-4.03'!$H$34)+('4.04'!$F$28*'M-4.04'!$H$23)+('4.05'!$F$29*'M-4.05'!$H$30)+('4.06'!$F$29*'M-4.06'!$H$24)+('4.07'!$F$28*'M-4.07'!$H$33)+('5.02'!$F$28*'M-5.02'!$H$22)+('5.03'!$F$29*'M-5.03'!$H$25) -> 7279.3188 | P10: =$N$10*$O$10 -> 0 | Q10: Total Transporte | U10: =SUM($U$8:$U$9) -> 0
B11: ='3.02'!$C$15 -> MORTERO 1:3 | C11: ='3.02'!$D$15 -> M3 | E11: =('3.02'!$F$15*'M-3.02'!$H$65)+('3.03'!$F$15*'M-3.03'!$H$32)+('4.04'!$F$16*'M-4.04'!$H$23)+('4.06'!$F$16*'M-4.06'!$H$24)+('5.01'!$F$16*'M-5.01'!$H$22) -> 185.52904 | F11: =$D$11*$E$11 -> 0 | G11: ='2.01'!$C$21 -> MARTILLO DEMOLEDOR ELÉCTRICO | H11: ='2.01'!$D$21 -> DIA | J11: =('2.01'!$F$21*'M-2.01'!$H$73) -> 592.1468 | K11: =$I$11*$J$11 -> 0 | L11: ='4.09'!$C$29 -> CUADRILLA DE CONSTRUCCIÓN TIPO 3 (1 OFICIAL + 3 AYUDANTES) | M11: ='4.09'!$D$29 -> HC | N11: ='4.09'!$E$29 -> 0 | O11: =('4.09'!$F$29*'M-4.09'!$H$23) -> 425.6 | P11: =$N$11*$O$11 -> 0
B12: ='3.02'!$C$16 -> TOXEMENT 1A | C12: ='3.02'!$D$16 -> KG | E12: =('3.02'!$F$16*'M-3.02'!$H$65)+('3.03'!$F$16*'M-3.03'!$H$32) -> 25.528 | F12: =$D$12*$E$12 -> 0 | G12: ='4.03'!$C$22 -> PULIDORA CON DISCO DE CORTE | H12: ='4.03'!$D$22 -> DIA | J12: =('4.03'!$F$22*'M-4.03'!$H$34) -> 76.935 | K12: =$I$12*$J$12 -> 0 | L12: ='5.04'!$C$28 -> CUADRILLA DE CONSTRUCCIÓN TIPO 4 (1 OFICIAL + 4 AYUDANTES) | M12: ='5.04'!$D$28 -> HC | N12: ='5.04'!$E$28 -> 0 | O12: =('5.04'!$F$28*'M-5.04'!$H$21) -> 40 | P12: =$N$12*$O$12 -> 0
B13: ='4.01'!$C$15 -> GRANIPLAST | C13: ='4.01'!$D$15 -> KG | E13: =('4.01'!$F$15*'M-4.01'!$H$71)+('4.02'!$F$15*'M-4.02'!$H$27) -> 34393.792 | F13: =$D$13*$E$13 -> 0 | G13: ='4.07'!$C$22 -> HIDROLAVADORA CHORRO PRESION-AUTONOMA | H13: ='4.07'!$D$22 -> DIA | J13: =('4.07'!$F$22*'M-4.07'!$H$33) -> 3.32 | K13: =$I$13*$J$13 -> 0 | L13: Total Mano de Obra | P13: =SUM($P$8:$P$12) -> 0
B14: ='4.05'!$C$16 -> MORTERO 1:2 | C14: ='4.05'!$D$16 -> M3 | E14: =('4.05'!$F$16*'M-4.05'!$H$30) -> 5.6 | F14: =$D$14*$E$14 -> 0 | G14: ='5.03'!$C$23 -> COMPRESOR AIRE + PISTOLA | H14: ='5.03'!$D$23 -> DIA | J14: =('5.03'!$F$23*'M-5.03'!$H$25) -> 2.88 | K14: =$I$14*$J$14 -> 0
B15: ='4.05'!$C$17 -> FORMALETA EN MADERA | C15: ='4.05'!$D$17 -> ML | E15: =('4.05'!$F$17*'M-4.05'!$H$30) -> 280 | F15: =$D$15*$E$15 -> 0 | G15: Total Equipos | K15: =SUM($K$8:$K$14) -> 0
B16: ='4.06'!$C$15 -> Placa Fibrocemento 10mm 244X122cm | C16: ='4.06'!$D$15 -> UND | E16: =('4.06'!$F$15*'M-4.06'!$H$24) -> 20 | F16: =$D$16*$E$16 -> 0 | G16: HERRAMIENTA Y EQUIPO MENOR (3% M.O.) | H16: % | I16: =P13 -> 0 | J16: 0.03 | K16: =J16*I16 -> 0
B17: ='4.06'!$C$17 -> Sikadur Panel | C17: ='4.06'!$D$17 -> KG | E17: =('4.06'!$F$17*'M-4.06'!$H$24) -> 0.2 | F17: =$D$17*$E$17 -> 0
B18: ='4.07'!$C$15 -> PINTURA PARA EXTERIOR BLANCA KORAZA | C18: ='4.07'!$D$15 -> GL | E18: =('4.07'!$F$15*'M-4.07'!$H$33) -> 29.05 | F18: =$D$18*$E$18 -> 0
B19: ='4.08'!$C$15 -> PLATINA DE ALUMINIO DE 15CM CAL 16 | C19: ='4.08'!$D$15 -> ML | E19: =('4.08'!$F$15*'M-4.08'!$H$22) -> 150 | F19: =$D$19*$E$19 -> 0
B20: ='4.08'!$C$16 -> CHAZO PLASTICO 1/4" | C20: ='4.08'!$D$16 -> UND | E20: =('4.08'!$F$16*'M-4.08'!$H$22)+('5.01'!$F$17*'M-5.01'!$H$22) -> 2424 | F20: =$D$20*$E$20 -> 0
B21: ='4.08'!$C$17 -> TORNILLO LAM. AVELL. 8 X 2" | C21: ='4.08'!$D$17 -> UND | E21: =('4.08'!$F$17*'M-4.08'!$H$22)+('5.01'!$F$18*'M-5.01'!$H$22) -> 2424 | F21: =$D$21*$E$21 -> 0
B22: ='4.08'!$C$18 -> SIKAFLEX 300ML | C22: ='4.08'!$D$18 -> UND | E22: =('4.08'!$F$18*'M-4.08'!$H$22) -> 150 | F22: =$D$22*$E$22 -> 0
B23: ='4.09'!$C$15 -> PLATINA METALICA CAL 10 | C23: ='4.09'!$D$15 -> UND | E23: =('4.09'!$F$15*'M-4.09'!$H$23) -> 112 | F23: =$D$23*$E$23 -> 0
B24: ='4.09'!$C$16 -> PERNO EXPLANSIÓN | C24: ='4.09'!$D$16 -> UND | E24: =('4.09'!$F$16*'M-4.09'!$H$23) -> 112 | F24: =$D$24*$E$24 -> 0
B25: ='4.09'!$C$17 -> SIKA ANCHORFLIX 2 600ml | C25: ='4.09'!$D$17 -> UND | E25: =('4.09'!$F$17*'M-4.09'!$H$23) -> 14 | F25: =$D$25*$E$25 -> 0
B26: ='5.01'!$C$15 -> ALFAJÍA FABRICADA EN LAMINA DE ACERO INOX CAL 16 DE 22cm ANCHO CON PESTAÑAS DE 4 CM. | C26: ='5.01'!$D$15 -> ML | E26: =('5.01'!$F$15*'M-5.01'!$H$22) -> 205.2 | F26: =$D$26*$E$26 -> 0
B27: ='5.02'!$C$15 -> PINTURA BITUMINOSA DE ALUMINIO | C27: ='5.02'!$D$15 -> GAL | E27: =('5.02'!$F$15*'M-5.02'!$H$22) -> 119.7 | F27: =$D$27*$E$27 -> 0
B28: ='5.02'!$C$16 -> RODILLO FELPA | C28: ='5.02'!$D$16 -> UND | E28: =('5.02'!$F$16*'M-5.02'!$H$22) -> 85.5 | F28: =$D$28*$E$28 -> 0
B29: ='5.03'!$C$15 -> PINTURA ACEITE GRIS | C29: ='5.03'!$D$15 -> GAL | E29: =('5.03'!$F$15*'M-5.03'!$H$25) -> 4.32 | F29: =$D$29*$E$29 -> 0
B30: ='5.04'!$C$15 -> SOPORTES PLASTICOS | C30: ='5.04'!$D$15 -> GB | E30: =('5.04'!$F$15*'M-5.04'!$H$21) -> 1 | F30: =$D$30*$E$30 -> 0
B31: Total Materiales | F31: =SUM($F$8:$F$30) -> 0

Sheet AIU%
G2: COSTOS INDIRECTOS
B3: NOMBRE DEL PROYECTO: MATENIMIENTO Y RESTAURACION FACHADAS DE LOS BLOQUES 1, 2, 3 Y TORREON CAMPUS VALLE DEL LILI | H3: VERSIÓN
H4: PRELIMINAR
B5: OBJETO PROYECTO: CONTRATO A TODO COSTO PARA LA REPACIÓN, MANTENIMINETO Y RESTAURACIÓN DE LAS FACHADAS DE LOS BLOQUES 1, 2, 3 Y TORREON DE LA UNIVERSIDAD LIBRE DE COLOMBIA - SECCIONAL CALI
B7: VALOR COSTO DIRECTO | E7: ='PRESUPUESTO DE OBRA'!G48 -> 0 | I7: % ADMIN TEORICO | J7: 0.15
B8: VALOR COSTO TOTAL APROX. | E8: =E7*(1+J7+I50+I52*1.19) -> 0 | I8: % ADMIN OBTENIDO | J8: =I48 -> 0.15
B9: DURACION OBRA EN MESES | E9: 5
B10: % ANTICIPO A SOLICITAR | E10: 0.4
B12: COSTOS ADMINISTRATIVOS | E12: VALOR MENSUAL | F12: %OCUP MES | G12: MESES DEDIC. | H12: VALOR PARCIAL | I12: %S/COSTOS DIRECTOS | J12: VALOR EN PESOS
B13: PERSONAL TECNICO Y ADM: (Incl.Pres.Soc) | E13: =SUM(E15:E18) -> 0 | H13: =SUM(H15:H17) -> 0 | J13: =SUM(J14:J18) -> 0
B14: DIRECTOR DE OBRA | F14: 0.1 | G14: =E$9 -> 5 | H14: =E14*G14*(F14) -> 0 | J14: =E14*F14*(G14) -> 0
B15: INGENIERO / ARQUITECTO DE OBRA | F15: 1 | G15: =E$9 -> 5 | H15: =E15*G15*(F15) -> 0 | J15: =E15*F15*(G15) -> 0
B16: MAESTRO DE OBRA | F16: 1 | G16: =E$9 -> 5 | H16: =E16*G16*(F16) -> 0 | J16: =E16*F16*(G16) -> 0
B17: PROFESIONAL SISO | F17: 1 | G17: =E$9 -> 5 | H17: =E17*G17*(F17) -> 0 | J17: =E17*F17*(G17) -> 0
B19: OFICINA, PAPELERIA Y OTROS: | E19: =SUM(E20:E26) -> 0 | F19: %Utiliz | G19: Meses | H19: =SUM(H20:H26) -> 0 | J19: =SUM(J20:J26) -> 0
B20: COSTO OFICINA | F20: 0.5 | G20: =E$9 -> 5 | H20: =E20*G20*(F20) -> 0 | J20: =E20*F20*(G20) -> 0
B21: COMPUTADORES | F21: 1 | G21: =E$9 -> 5 | H21: =E21*G21*(F21) -> 0 | J21: =E21*F21*(G21) -> 0
B22: COSTO PAPELERIA, FOTOCOPIAS,ETC | F22: 1 | G22: =E$9 -> 5 | H22: =E22*G22*(F22) -> 0 | J22: =E22*F22*(G22) -> 0
B23: DOTACIÓN | F23: 1 | G23: =E$9 -> 5 | H23: =E23*G23*(F23) -> 0 | J23: =E23*F23*(G23) -> 0
B24: BAÑO PORTATIL Y MANTENIMIENTO MENSUAL | F24: 1 | G24: =E$9 -> 5 | H24: =E24*G24*(F24) -> 0 | J24: =E24*F24*(G24) -> 0
B25: LABORATORIO DE GEOTECNIA | F25: 1 | G25: =E$9 -> 5 | H25: =E25*G25*(F25) -> 0 | J25: =E25*F25*(G25) -> 0
B27: LEGALIZACION DE CONTRATOS (Pólizas): | E27: % Requerido | F27: Durac+ (Meses) | G27: %Prima | J27: =SUM(J28:J35) -> 0
B28: POLIZA DE CUMPLIMIENTO | E28: 0.4 | F28: =E9+8 -> 13 | G28: 0.0018 | H28: =$E$8*E28*G28 -> 0 | J28: =H28 -> 0
B29: POLIZA DE MANEJO DE ANTICIPO | E29: 1 | F29: =E9+1 -> 6 | G29: 0.0006 | H29: =E8*E10*G29 -> 0 | J29: =H29 -> 0
B30: POLIZA R. CIVIL EXTRACONTRACTUAL | E30: 0.2 | F30: =E9+1 -> 6 | G30: 0.008 | H30: =$E$8*E30*G30 -> 0 | J30: =H30 -> 0
B31: POLIZA DE ESTABILIDAD | E31: 0.2 | F31: =E9+12 -> 17 | G31: 0.018 | H31: =$E$8*E31*G31 -> 0 | J31: =H31 -> 0
B32: POLIZA DE SALARIO Y P. SOCIALES | E32: 0.3 | F32: =E9+36 -> 41 | G32: 0.01 | H32: =$E$8*E32*G32 -> 0 | J32: =H32 -> 0
J33: -
J34: -
B36: LEGALIZACION DEL CONTRATO (Otros) | H36: 0 | I36: 0 | J36: 0
H38: - | J38: -
B40: DESCUENTO SOBRE EL CONTRATO | E40: =SUM(E41:E45) -> 0.024 | F40: Vr. Ttl contrato | H40: =SUM(H41:H45) -> 0 | J40: =SUM(J41:J45) -> 0
B41: Reteica 2% | E41: 0 | F41: =$E$8 -> 0 | H41: =E41*F41 -> 0 | J41: =H41 -> 0
B42: Fondo de Innovación para la Competitividad (FIC) | E42: 0 | F42: =$E$8 -> 0 | H42: =E42*F42 -> 0 | J42: =H42 -> 0
B43: retención en la fuente 2% | E43: 0.02 | F43: =$E$8 -> 0 | H43: =E43*F43 -> 0 | J43: =H43 -> 0
B44: Gravamen Movimientos Financieros (4x1000) | E44: 0.004 | F44: =$E$8 -> 0 | H44: =E44*F44 -> 0 | J44: =H44 -> 0
B46: TOTAL COSTOS ADMINISTRATIVOS (SUMA) | J46: =J13+J19+J27+J36+J40 -> 0
B47: ADMINISTRACION
B48: TOTAL COSTOS ADMINISTRATIVOS | I48: 0.15 | J48: =J46 -> 0
B49: IMPREVISTOS:
...

Sheet 1.01
B4: ANALISIS DE PRECIOS UNITARIOS
B6: Nombre del Proyecto | C6: MATENIMIENTO Y RESTAURACION FACHADAS DE LOS BLOQUES 1, 2, 3 Y TORREON CAMPUS VALLE DEL LILI | D6: Fecha | E6: SEPT 2026 | F6: Versión | G6: PRELIMINAR
B7: Objeto Proyecto | C7: CONTRATO A TODO COSTO PARA LA REPACIÓN, MANTENIMINETO Y RESTAURACIÓN DE LAS FACHADAS DE LOS BLOQUES 1, 2, 3 Y TORREON DE LA UNIVERSIDAD LIBRE - SECCIONAL CALI | D7: No. de Contrato | E7: 001
B8: Contratista | C8: POR DEFINIR | D8: Capítulo | E8: 1. PRELIMINARES
B9: Código | C9: 1.01
B10: Actividad | C10: CAMPAMENTO. ALQUILER DE CONTENEDOR PARA ALMACEN.
B11: Unidad Medida | C11: MES
B13: Materiales
B14: Código | C14: Descripción | D14: U.M. | E14: Vr. Unitario | F14: Cantidad | G14: Vr. Parcial
G15: =F15*E15 -> 0
G16: =F16*E16 -> 0
B17: Total Materiales | G17: =SUM(G15:G16) -> 0
B19: Equipos
B20: Código | C20: Descripción | D20: U.M. | E20: Vr. Unitario | F20: Cantidad | G20: Vr. Parcial
C21: ALQUILER DE CONTENEDOR ESTÁNDAR DE 20 PIES | D21: MES | F21: 1 | G21: =F21*E21 -> 0
G22: =F22*E22 -> 0
B23: Total Equipos | G23: =SUM(G21:G22) -> 0
B25: Mano de Obra
B26: Código | C26: Descripción | D26: U.M. | E26: Vr. Unitario | F26: Cantidad | G26: Vr. Parcial
G27: =F27*E27 -> 0
G28: =F28*E28 -> 0
B29: Total Mano de Obra | G29: =SUM(G27:G28) -> 0
B31: Transporte
B32: Código | C32: Descripción | D32: U.M. | E32: Vr. Unitario | F32: Cantidad | G32: Vr. Parcial
G33: =F33*E33 -> 0
G34: =F34*E34 -> 0
B35: Total Transporte | G35: =SUM(G33:G34) -> 0
B37: Total Costos Directo | G37: =G35+G29+G23+G17 -> 0
B38: Factor Incremento | F38: 1 | G38: =G37*F38 -> 0
B39: Administracion | F39: ='AIU%'!$I$48 -> 0.15 | G39: =F39*G38 -> 0
B40: Imprevistos | F40: 0 | G40: =F40*G38 -> 0
B41: Utilidad | F41: 0.05 | G41: =F41*G38 -> 0
B42: IVA Sobre la Utilidad | F42: 0.19 | G42: =F42*G41 -> 0
B44: TOTAL | G44: =G42+G41+G40+G39+G38 -> 0

Sheet M-1.01
B4: MEMORIA DE CANTIDAD
B6: Nombre del Proyecto | C6: MATENIMIENTO Y RESTAURACION FACHADAS DE LOS BLOQUES 1, 2, 3 Y TORREON CAMPUS VALLE DEL LILI | E6: Fecha | F6: SEPT 2026 | G6: Versión | H6: PRELIMINAR
B7: Objeto Proyecto | C7: CONTRATO A TODO COSTO PARA LA REPACIÓN, MANTENIMINETO Y RESTAURACIÓN DE LAS FACHADAS DE LOS BLOQUES 1, 2, 3 Y TORREON DE LA UNIVERSIDAD LIBRE - SECCIONAL CALI | E7: Capítulo | F7: ='1.01'!E8 -> 1. PRELIMINARES
B8: Contratista | C8: POR DEFINIR
B9: Código | C9: ="M-" & '1.01'!C9 -> M-1.01
B10: Actividad | C10: ='1.01'!C10 -> CAMPAMENTO. ALQUILER DE CONTENEDOR PARA ALMACEN.
B11: Unidad Medida | C11: ='1.01'!C11 -> MES
B13: DESCRIPCIÓN | C13: DIMENSIONES
C14: LONGITUD m | D14: ANCHO m | E14: ALTURA m | F14: =C11 -> MES | G14: N° DE UNIDADES | H14: SUBTOTAL
B15: COTENEDOR 20 PIES | F15: ='AIU%'!E9 -> 5 | G15: 1 | H15: =F15*G15 -> 5
B22: SUBTOTAL | H22: =SUM(H15:H21) -> 5
B23: TOTAL | H23: =H22 -> 5
B26: REGISTRO FOTOGRÁFICO DE OBRA
B27: INSERTAR FOTO

Sheet 1.02
B4: ANALISIS DE PRECIOS UNITARIOS
B6: Nombre del Proyecto | C6: MATENIMIENTO Y RESTAURACION FACHADAS DE LOS BLOQUES 1, 2, 3 Y TORREON CAMPUS VALLE DEL LILI | D6: Fecha | E6: SEPT 2026 | F6: Versión | G6: PRELIMINAR
B7: Objeto Proyecto | C7: CONTRATO A TODO COSTO PARA LA REPACIÓN, MANTENIMINETO Y RESTAURACIÓN DE LAS FACHADAS DE LOS BLOQUES 1, 2, 3 Y TORREON DE LA UNIVERSIDAD LIBRE - SECCIONAL CALI | D7: No. de Contrato | E7: 001
B8: Contratista | C8: POR DEFINIR | D8: Capítulo | E8: 1. PRELIMINARES
B9: Código | C9: 1.02
B10: Actividad | C10: SUMINISTRO Y OPERACIÓN DE SISTEMA Y EQUIPOS CERTIFICADOS PARA TRABAJO EN ALTURAS, INCLUYE ANDAMIOS MULTIDIRECCIONALES, ANDAMIOS COLGANTES, ARNÉS Y SISTEMA DE PROTECCIÓN CONTRA CAÍDAS.
B11: Unidad Medida | C11: MES
B13: Materiales
B14: Código | C14: Descripción | D14: U.M. | E14: Vr. Unitario | F14: Cantidad | G14: Vr. Parcial
G15: =F15*E15 -> 0
G16: =F16*E16 -> 0
B17: Total Materiales | G17: =SUM(G15:G16) -> 0
B19: Equipos
B20: Código | C20: Descripción | D20: U.M. | E20: Vr. Unitario | F20: Cantidad | G20: Vr. Parcial
C21: ALQUILER DE ANDAMIOS CERTIFICADOS PARA TRABAJO EN ALTURA | D21: MES | F21: 1 | G21: =F21*E21 -> 0
C22: EQUIPO PARA TRABAJO EN ALTURA | D22: MES | F22: 1 | G22: =F22*E22 -> 0
G23: =F23*E23 -> 0
B24: Total Equipos | G24: =SUM(G21:G23) -> 0
B26: Mano de Obra
B27: Código | C27: Descripción | D27: U.M. | E27: Vr. Unitario | F27: Cantidad | G27: Vr. Parcial
G28: =F28*E28 -> 0
G29: =F29*E29 -> 0
B30: Total Mano de Obra | G30: =SUM(G28:G29) -> 0
B32: Transporte
B33: Código | C33: Descripción | D33: U.M. | E33: Vr. Unitario | F33: Cantidad | G33: Vr. Parcial
G34: =F34*E34 -> 0
G35: =F35*E35 -> 0
B36: Total Transporte | G36: =SUM(G34:G35) -> 0
B38: Total Costos Directo | G38: =G36+G30+G24+G17 -> 0
B39: Factor Incremento | F39: 1 | G39: =G38*F39 -> 0
B40: Administracion | F40: ='AIU%'!$I$48 -> 0.15 | G40: =F40*G39 -> 0
B41: Imprevistos | F41: 0 | G41: =F41*G39 -> 0
B42: Utilidad | F42: 0.05 | G42: =F42*G39 -> 0
B43: IVA Sobre la Utilidad | F43: 0.19 | G43: =F43*G42 -> 0
B45: TOTAL | G45: =G43+G42+G41+G40+G39 -> 0

Sheet M-1.02
B4: MEMORIA DE CANTIDAD
B6: Nombre del Proyecto | C6: MATENIMIENTO Y RESTAURACION FACHADAS DE LOS BLOQUES 1, 2, 3 Y TORREON CAMPUS VALLE DEL LILI | E6: Fecha | F6: SEPT 2026 | G6: Versión | H6: PRELIMINAR
B7: Objeto Proyecto | C7: CONTRATO A TODO COSTO PARA LA REPACIÓN, MANTENIMINETO Y RESTAURACIÓN DE LAS FACHADAS DE LOS BLOQUES 1, 2, 3 Y TORREON DE LA UNIVERSIDAD LIBRE - SECCIONAL CALI | E7: Capítulo | F7: ='1.02'!E8 -> 1. PRELIMINARES
B8: Contratista | C8: POR DEFINIR
B9: Código | C9: ="M-" & '1.02'!C9 -> M-1.02
B10: Actividad | C10: ='1.02'!C10 -> SUMINISTRO Y OPERACIÓN DE SISTEMA Y EQUIPOS CERTIFICADOS PARA TRABAJO EN ALTURAS, INCLUYE ANDAMIOS MULTIDIRECCIONALES, ANDAMIOS COLGANTES, ARNÉS Y SISTEMA DE PROTECCIÓN CONTRA CAÍDAS.
B11: Unidad Medida | C11: ='1.02'!C11 -> MES
B13: DESCRIPCIÓN | C13: DIMENSIONES
C14: LONGITUD m | D14: ANCHO m | E14: ALTURA m | F14: =C11 -> MES | G14: N° DE UNIDADES | H14: SUBTOTAL
B15: EQUIPO | F15: ='AIU%'!E9 -> 5 | G15: 1 | H15: =F15*G15 -> 5
B31: SUBTOTAL | H31: =SUM(H15:H30) -> 5
B32: TOTAL | H32: =H31 -> 5
B35: REGISTRO FOTOGRÁFICO DE OBRA
B36: INSERTAR FOTO

Sheet 2.01
B4: ANALISIS DE PRECIOS UNITARIOS
B6: Nombre del Proyecto | C6: MATENIMIENTO Y RESTAURACION FACHADAS DE LOS BLOQUES 1, 2, 3 Y TORREON CAMPUS VALLE DEL LILI | D6: Fecha | E6: SEPT 2026 | F6: Versión | G6: PRELIMINAR
B7: Objeto Proyecto | C7: CONTRATO A TODO COSTO PARA LA REPACIÓN, MANTENIMINETO Y RESTAURACIÓN DE LAS FACHADAS DE LOS BLOQUES 1, 2, 3 Y TORREON DE LA UNIVERSIDAD LIBRE - SECCIONAL CALI | D7: No. de Contrato | E7: 001
B8: Contratista | C8: POR DEFINIR | D8: Capítulo | E8: 2. RETIROS Y DEMOLICIONES
B9: Código | C9: 2.01
B10: Actividad | C10: DEMOLICIONES DE REPELLO Y PINUTRA EXISTENTE EN FACHADAS. LIMPIEZA DE LA SUPERFICIE HASTA QUEDAR APTA PARA APLICAR REPELLO NUEVO.
B11: Unidad Medida | C11: M2
B13: Materiales
B14: Código | C14: Descripción | D14: U.M. | E14: Vr. Unitario | F14: Cantidad | G14: Vr. Parcial
G15: =F15*E15 -> 0
G16: =F16*E16 -> 0
B17: Total Materiales | G17: =SUM(G15:G16) -> 0
B19: Equipos
B20: Código | C20: Descripción | D20: U.M. | E20: Vr. Unitario | F20: Cantidad | G20: Vr. Parcial
C21: MARTILLO DEMOLEDOR ELÉCTRICO | D21: DIA | F21: 0.07 | G21: =F21*E21 -> 0
G22: =F22*E22 -> 0
G23: =F23*E23 -> 0
B24: Total Equipos | G24: =SUM(G21:G23) -> 0
B26: Mano de Obra
B27: Código | C27: Descripción | D27: U.M. | E27: Vr. Unitario | F27: Cantidad | G27: Vr. Parcial
B28: C0201001 | C28: AYUDANTE OBRA | D28: HR | F28: 1 | G28: =F28*E28 -> 0
G29: =F29*E29 -> 0
B30: Total Mano de Obra | G30: =SUM(G28:G29) -> 0
B32: Transporte
B33: Código | C33: Descripción | D33: U.M. | E33: Vr. Unitario | F33: Cantidad | G33: Vr. Parcial
B34: ABC001 | C34: HERRAMIENTA Y EQUIPO MENOR | D34: % | F34: 0.03 | G34: =F34*E34 -> 0
G35: =F35*E35 -> 0
B36: Total Transporte | G36: =SUM(G34:G35) -> 0
B38: Total Costos Directo | G38: =INT(G36+G30+G24+G17) -> 0
B39: Factor Incremento | F39: 1 | G39: =G38*F39 -> 0
B40: Administracion | F40: ='AIU%'!$I$48 -> 0.15 | G40: =F40*G39 -> 0
B41: Imprevistos | F41: 0 | G41: =F41*G39 -> 0
B42: Utilidad | F42: 0.05 | G42: =F42*G39 -> 0
B43: IVA Sobre la Utilidad | F43: 0.19 | G43: =F43*G42 -> 0
B45: TOTAL | G45: =G43+G42+G41+G40+G39 -> 0

Sheet M-2.01
B4: MEMORIA DE CANTIDAD
B6: Nombre del Proyecto | C6: MATENIMIENTO Y RESTAURACION FACHADAS DE LOS BLOQUES 1, 2, 3 Y TORREON CAMPUS VALLE DEL LILI | E6: Fecha | F6: SEPT 2026 | G6: Versión | H6: PRELIMINAR
B7: Objeto Proyecto | C7: CONTRATO A TODO COSTO PARA LA REPACIÓN, MANTENIMINETO Y RESTAURACIÓN DE LAS FACHADAS DE LOS BLOQUES 1, 2, 3 Y TORREON DE LA UNIVERSIDAD LIBRE- SECCIONAL CALI | E7: Capítulo | F7: ='2.01'!E8 -> 2. RETIROS Y DEMOLICIONES
B8: Contratista | C8: POR DEFINIR
B9: Código | C9: ="M-" & '2.01'!C9 -> M-2.01
B10: Actividad | C10: ='2.01'!C10 -> DEMOLICIONES DE REPELLO Y PINUTRA EXISTENTE EN FACHADAS. LIMPIEZA DE LA SUPERFICIE HASTA QUEDAR APTA PARA APLICAR REPELLO NUEVO.
B11: Unidad Medida | C11: ='2.01'!C11 -> M2
B13: DESCRIPCIÓN | C13: DIMENSIONES
C14: LONGITUD m | D14: ANCHO m | E14: ALTURA m | F14: =C11 -> M2 | G14: N° DE UNIDADES | H14: SUBTOTAL
B15: TORRE 1
B16: FACHADA OCCIDENTAL | C16: 3 | E16: 19.6 | F16: =ROUND(IF(C16=0,1,C16)*IF(D16=0,1,D16)*IF(E16=0,1,E16),2) -> 58.8 | G16: 1 | H16: =F16*G16 -> 58.8
C17: 9 | E17: 5.6 | F17: =ROUND(IF(C17=0,1,C17)*IF(D17=0,1,D17)*IF(E17=0,1,E17),2) -> 50.4 | G17: 1 | H17: =F17*G17 -> 50.4
C18: 9 | E18: 19.6 | F18: =ROUND(IF(C18=0,1,C18)*IF(D18=0,1,D18)*IF(E18=0,1,E18),2) -> 176.4 | G18: 1 | H18: =F18*G18 -> 176.4
B19: FACHADA NORTE | C19: 9 | E19: 19.6 | F19: =ROUND(IF(C19=0,1,C19)*IF(D19=0,1,D19)*IF(E19=0,1,E19),2) -> 176.4 | G19: 1 | H19: =F19*G19 -> 176.4
C20: 34 | E20: 1.5 | F20: =ROUND(IF(C20=0,1,C20)*IF(D20=0,1,D20)*IF(E20=0,1,E20),2) -> 51 | G20: 1 | H20: =F20*G20 -> 51
C21: 34 | E21: 2.3 | F21: =ROUND(IF(C21=0,1,C21)*IF(D21=0,1,D21)*IF(E21=0,1,E21),2) -> 78.2 | G21: 1 | H21: =F21*G21 -> 78.2
B22: VIGAS | C22: 34 | E22: 0.5 | F22: =ROUND(IF(C22=0,1,C22)*IF(D22=0,1,D22)*IF(E22=0,1,E22),2) -> 17 | G22: 3 | H22: =F22*G22 -> 51
B23: COLUMNAS | C23: 42 | E23: 3 | F23: =ROUND(IF(C23=0,1,C23)*IF(D23=0,1,D23)*IF(E23=0,1,E23),2) -> 126 | G23: 11 | H23: =F23*G23 -> 1386
B24: FACHADA SUR | C24: 32 | E24: 1.6 | F24: =ROUND(IF(C24=0,1,C24)*IF(D24=0,1,D24)*IF(E24=0,1,E24),2) -> 51.2 | G24: 2 | H24: =F24*G24 -> 102.4
B25: VIGAS | C25: 32 | E25: 0.5 | F25: =ROUND(IF(C25=0,1,C25)*IF(D25=0,1,D25)*IF(E25=0,1,E25),2) -> 16 | G25: 2 | H25: =F25*G25 -> 32
B26: COLUMNAS | C26: 42 | E26: 3 | F26: =ROUND(IF(C26=0,1,C26)*IF(D26=0,1,D26)*IF(E26=0,1,E26),2) -> 126 | G26: 11 | H26: =F26*G26 -> 1386
B27: TORRE 2
B28: FACHADA ORIENTAL | C28: 3 | E28: 19.6 | F28: =ROUND(IF(C28=0,1,C28)*IF(D28=0,1,D28)*IF(E28=0,1,E28),2) -> 58.8 | G28: 1 | H28: =F28*G28 -> 58.8
C29: 9 | E29: 5.6 | F29: =ROUND(IF(C29=0,1,C29)*IF(D29=0,1,D29)*IF(E29=0,1,E29),2) -> 50.4 | G29: 1 | H29: =F29*G29 -> 50.4
C30: 9 | E30: 19.6 | F30: =ROUND(IF(C30=0,1,C30)*IF(D30=0,1,D30)*IF(E30=0,1,E30),2) -> 176.4 | G30: 1 | H30: =F30*G30 -> 176.4
B31: FACHADA NORTE | C31: 9 | E31: 19.6 | F31: =ROUND(IF(C31=0,1,C31)*IF(D31=0,1,D31)*IF(E31=0,1,E31),2) -> 176.4 | G31: 1 | H31: =F31*G31 -> 176.4
C32: 34 | E32: 1.5 | F32: =ROUND(IF(C32=0,1,C32)*IF(D32=0,1,D32)*IF(E32=0,1,E32),2) -> 51 | G32: 1 | H32: =F32*G32 -> 51
C33: 34 | E33: 2.3 | F33: =ROUND(IF(C33=0,1,C33)*IF(D33=0,1,D33)*IF(E33=0,1,E33),2) -> 78.2 | G33: 1 | H33: =F33*G33 -> 78.2
B34: VIGAS | C34: 34 | E34: 0.5 | F34: =ROUND(IF(C34=0,1,C34)*IF(D34=0,1,D34)*IF(E34=0,1,E34),2) -> 17 | G34: 3 | H34: =F34*G34 -> 51
B35: COLUMNAS | C35: 42 | E35: 3 | F35: =ROUND(IF(C35=0,1,C35)*IF(D35=0,1,D35)*IF(E35=0,1,E35),2) -> 126 | G35: 11 | H35: =F35*G35 -> 1386
B36: FACHADA SUR | C36: 32 | E36: 1.6 | F36: =ROUND(IF(C36=0,1,C36)*IF(D36=0,1,D36)*IF(E36=0,1,E36),2) -> 51.2 | G36: 2 | H36: =F36*G36 -> 102.4
B37: VIGAS | C37: 32 | E37: 0.5 | F37: =ROUND(IF(C37=0,1,C37)*IF(D37=0,1,D37)*IF(E37=0,1,E37),2) -> 16 | G37: 2 | H37: =F37*G37 -> 32
B38: COLUMNAS | C38: 42 | E38: 3 | F38: =ROUND(IF(C38=0,1,C38)*IF(D38=0,1,D38)*IF(E38=0,1,E38),2) -> 126 | G38: 11 | H38: =F38*G38 -> 1386
B40: EDIFICIO TORREÓN
B41: FACHADA OCCIDENTAL | C41: 1.5 | E41: 18.45 | F41: =ROUND(IF(C41=0,1,C41)*IF(D41=0,1,D41)*IF(E41=0,1,E41),2) -> 27.68 | G41: 2 | H41: =F41*G41 -> 55.36
C42: 8.3 | E42: 18.45 | F42: =ROUND(IF(C42=0,1,C42)*IF(D42=0,1,D42)*IF(E42=0,1,E42),2) -> 153.14 | G42: 1 | H42: =F42*G42 -> 153.14
C43: 1.9 | E43: 18.45 | F43: =ROUND(IF(C43=0,1,C43)*IF(D43=0,1,D43)*IF(E43=0,1,E43),2) -> 35.06 | G43: 2 | H43: =F43*G43 -> 70.12
B44: FACHADA ORIENTAL | C44: 1.5 | E44: 18.45 | F44: =ROUND(IF(C44=0,1,C44)*IF(D44=0,1,D44)*IF(E44=0,1,E44),2) -> 27.68 | G44: 2 | H44: =F44*G44 -> 55.36
C45: 8.3 | E45: 18.45 | F45: =ROUND(IF(C45=0,1,C45)*IF(D45=0,1,D45)*IF(E45=0,1,E45),2) -> 153.14 | G45: 1 | H45: =F45*G45 -> 153.14
C46: 1.9 | E46: 18.45 | F46: =ROUND(IF(C46=0,1,C46)*IF(D46=0,1,D46)*IF(E46=0,1,E46),2) -> 35.06 | G46: 2 | H46: =F46*G46 -> 70.12
...

Sheet 2.02
B4: ANALISIS DE PRECIOS UNITARIOS
B6: Nombre del Proyecto | C6: MATENIMIENTO Y RESTAURACION FACHADAS DE LOS BLOQUES 1, 2, 3 Y TORREON CAMPUS VALLE DEL LILI | D6: Fecha | E6: SEPT 2026 | F6: Versión | G6: PRELIMINAR
B7: Objeto Proyecto | C7: CONTRATO A TODO COSTO PARA LA REPACIÓN, MANTENIMINETO Y RESTAURACIÓN DE LAS FACHADAS DE LOS BLOQUES 1, 2, 3 Y TORREON DE LA UNIVERSIDAD LIBRE - SECCIONAL CALI | D7: No. de Contrato | E7: 001
B8: Contratista | C8: POR DEFINIR | D8: Capítulo | E8: 2. RETIROS Y DEMOLICIONES
B9: Código | C9: 2.02
B10: Actividad | C10: RETIRO DE ESCOMBROS INCLUYE ACARREO INTERNO, CARGUE MANUAL, Y DISPOSCION FINAL A 25KM A PUNTO AMBIENTAL AUTORIZADO. VOLUMEN SUELTO MEDIDO EN VOLQUETA
B11: Unidad Medida | C11: M3
B13: Materiales
B14: Código | C14: Descripción | D14: U.M. | E14: Vr. Unitario | F14: Cantidad | G14: Vr. Parcial
C15: REMISIÓN O BOLETA CERTIFICADO DEL VOLTADERO | D15: M3 | F15: 1 | G15: =F15*E15 -> 0
G16: =F16*E16 -> 0
B17: Total Materiales | G17: =SUM(G15:G16) -> 0
B19: Equipos
B20: Código | C20: Descripción | D20: U.M. | E20: Vr. Unitario | F20: Cantidad | G20: Vr. Parcial
G22: =F22*E22 -> 0
B23: Total Equipos | G23: =SUM(G21:G22) -> 0
B25: Mano de Obra
B26: Código | C26: Descripción | D26: U.M. | E26: Vr. Unitario | F26: Cantidad | G26: Vr. Parcial
B27: C0201001 | C27: AYUDANTE OBRA | D27: HR | F27: 2 | G27: =F27*E27 -> 0
G28: =F28*E28 -> 0
B29: Total Mano de Obra | G29: =SUM(G27:G28) -> 0
B31: Transporte
B32: Código | C32: Descripción | D32: U.M. | E32: Vr. Unitario | F32: Cantidad | G32: Vr. Parcial
B33: ABC001 | C33: HERRAMIENTA Y EQUIPO MENOR | D33: % | E33: =$G$29 -> 0 | F33: 0.03 | G33: =F33*E33 -> 0
C34: VIAJE VOLQUETA A 25 KM | D34: M3/KM | F34: 25 | G34: =F34*E34 -> 0
G35: =F35*E35 -> 0
B36: Total Transporte | G36: =SUM(G33:G35) -> 0
B38: Total Costos Directo | G38: =INT(G36+G29+G23+G17) -> 0
B39: Factor Incremento | F39: 1 | G39: =G38*F39 -> 0
B40: Administracion | F40: ='AIU%'!$I$48 -> 0.15 | G40: =F40*G39 -> 0
B41: Imprevistos | F41: 0 | G41: =F41*G39 -> 0
B42: Utilidad | F42: 0.05 | G42: =F42*G39 -> 0
B43: IVA Sobre la Utilidad | F43: 0.19 | G43: =F43*G42 -> 0
B45: TOTAL | G45: =G43+G42+G41+G40+G39 -> 0

Sheet M-2.02
B4: MEMORIA DE CANTIDAD
B6: Nombre del Proyecto | C6: MATENIMIENTO Y RESTAURACION FACHADAS DE LOS BLOQUES 1, 2, 3 Y TORREON CAMPUS VALLE DEL LILI | E6: Fecha | F6: SEPT 2026 | G6: Versión | H6: PRELIMINAR
B7: Objeto Proyecto | C7: CONTRATO A TODO COSTO PARA LA REPACIÓN, MANTENIMINETO Y RESTAURACIÓN DE LAS FACHADAS DE LOS BLOQUES 1, 2, 3 Y TORREON DE LA UNIVERSIDAD LIBRE - SECCIONAL CALI | E7: Capítulo | F7: ='2.02'!E8 -> 2. RETIROS Y DEMOLICIONES
B8: Contratista | C8: POR DEFINIR
B9: Código | C9: ="M-" & '2.02'!C9 -> M-2.02
B10: Actividad | C10: ='2.02'!C10 -> RETIRO DE ESCOMBROS INCLUYE ACARREO INTERNO, CARGUE MANUAL, Y DISPOSCION FINAL A 25KM A PUNTO AMBIENTAL AUTORIZADO. VOLUMEN SUELTO MEDIDO EN VOLQUETA
B11: Unidad Medida | C11: ='2.02'!C11 -> M3
B13: DESCRIPCIÓN | C13: DIMENSIONES
C14: ÁREA m | D14: ESPESOR m | E14: ALTURA m | F14: =C11 -> M3 | G14: EXPANSIÓN | H14: SUBTOTAL
B15: VOLUMEN DE REPELLO A RETIRAR | C15: ='M-2.01'!H72 -> 8459.24 | D15: 0.04 | F15: =ROUND(IF(C15=0,1,C15)*IF(D15=0,1,D15)*IF(E15=0,1,E15),2) -> 338.37 | G15: 1.35 | H15: =F15*G15 -> 456.7995
B23: SUBTOTAL | H23: =ROUND(SUM(H15:H22),2) -> 456.8
B24: TOTAL | H24: =H23 -> 456.8
B27: REGISTRO FOTOGRÁFICO DE OBRA

Sheet 3.01
B4: ANALISIS DE PRECIOS UNITARIOS
B6: Nombre del Proyecto | C6: MATENIMIENTO Y RESTAURACION FACHADAS DE LOS BLOQUES 1, 2, 3 Y TORREON CAMPUS VALLE DEL LILI | D6: Fecha | E6: SEPT 2026 | F6: Versión | G6: PRELIMINAR
B7: Objeto Proyecto | C7: CONTRATO A TODO COSTO PARA LA REPACIÓN, MANTENIMINETO Y RESTAURACIÓN DE LAS FACHADAS DE LOS BLOQUES 1, 2, 3 Y TORREON DE LA UNIVERSIDAD LIBRE- SECCIONAL CALI | D7: No. de Contrato | E7: 001
B8: Contratista | C8: POR DEFINIR | D8: Capítulo | E8: 3. REPELLOS E IMPERMEABILIZACIONES
B9: Código | C9: 3.01
B10: Actividad | C10: SUMINISTRO E INSTALACIÓN DE IMPERMEBIALIZACIÓN CON LECHADA DE CEMENTO CON SIKALATEX O SIMILAR
B11: Unidad Medida | C11: M2
B13: Materiales
B14: Código | C14: Descripción | D14: U.M. | E14: Vr. Unitario | F14: Cantidad | G14: Vr. Parcial
C15: CEMENTO | D15: KG | F15: 2.8 | G15: =F15*E15 -> 0
C16: SIKALATEX | D16: KG | F16: 0.06 | G16: =F16*E16 -> 0
G17: =F17*E17 -> 0
B18: Total Materiales | G18: =SUM(G15:G17) -> 0
B20: Equipos
B21: Código | C21: Descripción | D21: U.M. | E21: Vr. Unitario | F21: Cantidad | G21: Vr. Parcial
G23: =F23*E23 -> 0
B24: Total Equipos | G24: =SUM(G22:G23) -> 0
B26: Mano de Obra
B27: Código | C27: Descripción | D27: U.M. | E27: Vr. Unitario | F27: Cantidad | G27: Vr. Parcial
B28: C1301001 | C28: CUADRILLA DE CONSTRUCCIÓN TIPO 1 (1 OFICIAL + 1 AYUDANTE) | D28: HC | F28: 0.3 | G28: =F28*E28 -> 0
G29: =F29*E29 -> 0
B30: Total Mano de Obra | G30: =SUM(G28:G29) -> 0
B32: Transporte
B33: Código | C33: Descripción | D33: U.M. | E33: Vr. Unitario | F33: Cantidad | G33: Vr. Parcial
B34: ABC001 | C34: HERRAMIENTA Y EQUIPO MENOR | D34: % | E34: =$G$30 -> 0 | F34: 0.03 | G34: =F34*E34 -> 0
G35: =F35*E35 -> 0
B36: Total Transporte | G36: =SUM(G34:G35) -> 0
B38: Total Costos Directo | G38: =ROUND(G36+G30+G24+G18,0) -> 0
B39: Factor Incremento | F39: 1 | G39: =G38*F39 -> 0
B40: Administracion | F40: ='AIU%'!$I$48 -> 0.15 | G40: =F40*G39 -> 0
B41: Imprevistos | F41: 0 | G41: =F41*G39 -> 0
B42: Utilidad | F42: 0.05 | G42: =F42*G39 -> 0
B43: IVA Sobre la Utilidad | F43: 0.19 | G43: =F43*G42 -> 0
B45: TOTAL | G45: =G43+G42+G41+G40+G39 -> 0

Sheet M-3.01
B4: MEMORIA DE CANTIDAD
B6: Nombre del Proyecto | C6: MATENIMIENTO Y RESTAURACION FACHADAS DE LOS BLOQUES 1, 2, 3 Y TORREON CAMPUS VALLE DEL LILI | E6: Fecha | F6: SEPT 2026 | G6: Versión | H6: PRELIMINAR
B7: Objeto Proyecto | C7: CONTRATO A TODO COSTO PARA LA REPACIÓN, MANTENIMINETO Y RESTAURACIÓN DE LAS FACHADAS DE LOS BLOQUES 1, 2, 3 Y TORREON DE LA UNIVERSIDAD LIBRE- SECCIONAL CALI | E7: Capítulo | F7: ='3.01'!E8 -> 3. REPELLOS E IMPERMEABILIZACIONES
B8: Contratista | C8: POR DEFINIR
B9: Código | C9: ="M-" & '3.01'!C9 -> M-3.01
B10: Actividad | C10: ='3.01'!C10 -> SUMINISTRO E INSTALACIÓN DE IMPERMEBIALIZACIÓN CON LECHADA DE CEMENTO CON SIKALATEX O SIMILAR
B11: Unidad Medida | C11: ='3.01'!C11 -> M2
B13: DESCRIPCIÓN | C13: DIMENSIONES
C14: LONGITUD m | D14: ANCHO m | E14: ALTURA m | F14: =C11 -> M2 | G14: N° DE UNIDADES | H14: SUBTOTAL
B15: TORRE 1
B16: FACHADA OCCIDENTAL | C16: 3 | E16: 1 | F16: =ROUND(IF(C16=0,1,C16)*IF(D16=0,1,D16)*IF(E16=0,1,E16),2) -> 3 | G16: 1 | H16: =F16*G16 -> 3
C17: 9 | E17: 1 | F17: =ROUND(IF(C17=0,1,C17)*IF(D17=0,1,D17)*IF(E17=0,1,E17),2) -> 9 | G17: 1 | H17: =F17*G17 -> 9
C18: 9 | E18: 1 | F18: =ROUND(IF(C18=0,1,C18)*IF(D18=0,1,D18)*IF(E18=0,1,E18),2) -> 9 | G18: 1 | H18: =F18*G18 -> 9
B19: FACHADA NORTE | C19: 9 | E19: 1 | F19: =ROUND(IF(C19=0,1,C19)*IF(D19=0,1,D19)*IF(E19=0,1,E19),2) -> 9 | G19: 1 | H19: =F19*G19 -> 9
C20: 34 | E20: 1 | F20: =ROUND(IF(C20=0,1,C20)*IF(D20=0,1,D20)*IF(E20=0,1,E20),2) -> 34 | G20: 1 | H20: =F20*G20 -> 34
C21: 34 | E21: 1 | F21: =ROUND(IF(C21=0,1,C21)*IF(D21=0,1,D21)*IF(E21=0,1,E21),2) -> 34 | G21: 1 | H21: =F21*G21 -> 34
B22: FACHADA SUR | C22: 32 | E22: 1 | F22: =ROUND(IF(C22=0,1,C22)*IF(D22=0,1,D22)*IF(E22=0,1,E22),2) -> 32 | G22: 1 | H22: =F22*G22 -> 32
B23: TORRE 2
B24: FACHADA ORIENTAL | C24: 3 | E24: 1 | F24: =ROUND(IF(C24=0,1,C24)*IF(D24=0,1,D24)*IF(E24=0,1,E24),2) -> 3 | G24: 1 | H24: =F24*G24 -> 3
C25: 9 | E25: 1 | F25: =ROUND(IF(C25=0,1,C25)*IF(D25=0,1,D25)*IF(E25=0,1,E25),2) -> 9 | G25: 1 | H25: =F25*G25 -> 9
C26: 9 | E26: 1 | F26: =ROUND(IF(C26=0,1,C26)*IF(D26=0,1,D26)*IF(E26=0,1,E26),2) -> 9 | G26: 1 | H26: =F26*G26 -> 9
B27: FACHADA NORTE | C27: 9 | E27: 1 | F27: =ROUND(IF(C27=0,1,C27)*IF(D27=0,1,D27)*IF(E27=0,1,E27),2) -> 9 | G27: 1 | H27: =F27*G27 -> 9
C28: 34 | E28: 1 | F28: =ROUND(IF(C28=0,1,C28)*IF(D28=0,1,D28)*IF(E28=0,1,E28),2) -> 34 | G28: 1 | H28: =F28*G28 -> 34
C29: 34 | E29: 1 | F29: =ROUND(IF(C29=0,1,C29)*IF(D29=0,1,D29)*IF(E29=0,1,E29),2) -> 34 | G29: 1 | H29: =F29*G29 -> 34
B30: FACHADA SUR | C30: 32 | E30: 1 | F30: =ROUND(IF(C30=0,1,C30)*IF(D30=0,1,D30)*IF(E30=0,1,E30),2) -> 32 | G30: 1 | H30: =F30*G30 -> 32
B32: EDIFICIO TORREÓN
B33: FACHADA OCCIDENTAL | C33: 1.5 | E33: 1 | F33: =ROUND(IF(C33=0,1,C33)*IF(D33=0,1,D33)*IF(E33=0,1,E33),2) -> 1.5 | G33: 1 | H33: =F33*G33 -> 1.5
C34: 8.3 | E34: 1 | F34: =ROUND(IF(C34=0,1,C34)*IF(D34=0,1,D34)*IF(E34=0,1,E34),2) -> 8.3 | G34: 1 | H34: =F34*G34 -> 8.3
C35: 1.9 | E35: 1 | F35: =ROUND(IF(C35=0,1,C35)*IF(D35=0,1,D35)*IF(E35=0,1,E35),2) -> 1.9 | G35: 1 | H35: =F35*G35 -> 1.9
B36: FACHADA ORIENTAL | C36: 1.5 | E36: 1 | F36: =ROUND(IF(C36=0,1,C36)*IF(D36=0,1,D36)*IF(E36=0,1,E36),2) -> 1.5 | G36: 1 | H36: =F36*G36 -> 1.5
C37: 8.3 | E37: 1 | F37: =ROUND(IF(C37=0,1,C37)*IF(D37=0,1,D37)*IF(E37=0,1,E37),2) -> 8.3 | G37: 1 | H37: =F37*G37 -> 8.3
C38: 1.9 | E38: 1 | F38: =ROUND(IF(C38=0,1,C38)*IF(D38=0,1,D38)*IF(E38=0,1,E38),2) -> 1.9 | G38: 1 | H38: =F38*G38 -> 1.9
B39: FACHADA NORTE | C39: 1.9 | E39: 1 | F39: =ROUND(IF(C39=0,1,C39)*IF(D39=0,1,D39)*IF(E39=0,1,E39),2) -> 1.9 | G39: 1 | H39: =F39*G39 -> 1.9
B42: SUBTOTAL | H42: =ROUND(SUM(H15:H41),2) -> 285.3
B43: TOTAL | H43: =H42 -> 285.3
B46: REGISTRO FOTOGRÁFICO DE OBRA

Sheet 3.02
B4: ANALISIS DE PRECIOS UNITARIOS
B6: Nombre del Proyecto | C6: MATENIMIENTO Y RESTAURACION FACHADAS DE LOS BLOQUES 1, 2, 3 Y TORREON CAMPUS VALLE DEL LILI | D6: Fecha | E6: SEPT 2026 | F6: Versión | G6: PRELIMINAR
B7: Objeto Proyecto | C7: CONTRATO A TODO COSTO PARA LA REPACIÓN, MANTENIMINETO Y RESTAURACIÓN DE LAS FACHADAS DE LOS BLOQUES 1, 2, 3 Y TORREON DE LA UNIVERSIDAD LIBRE - SECCIONAL CALI | D7: No. de Contrato | E7: 001
B8: Contratista | C8: POR DEFINIR | D8: Capítulo | E8: 3. REPELLOS E IMPERMEABILIZACIONES
B9: Código | C9: 3.02
B10: Actividad | C10: SUMINISTRO E INSTALACIÓN DE REPELLO. INCLUYE MORTERO 1:3 IMPERMEABLIZADO CON TOXEMENT 1A O SIMILAR
B11: Unidad Medida | C11: M2
B13: Materiales
B14: Código | C14: Descripción | D14: U.M. | E14: Vr. Unitario | F14: Cantidad | G14: Vr. Parcial
C15: MORTERO 1:3 | D15: M3 | F15: =1.05*0.02 -> 0.021 | G15: =F15*E15 -> 0
C16: TOXEMENT 1A | D16: KG | F16: =1/330 -> 0.003030303 | G16: =F16*E16 -> 0
G17: =F17*E17 -> 0
B18: Total Materiales | G18: =SUM(G15:G17) -> 0
B20: Equipos
B21: Código | C21: Descripción | D21: U.M. | E21: Vr. Unitario | F21: Cantidad | G21: Vr. Parcial
G23: =F23*E23 -> 0
B24: Total Equipos | G24: =SUM(G22:G23) -> 0
B26: Mano de Obra
B27: Código | C27: Descripción | D27: U.M. | E27: Vr. Unitario | F27: Cantidad | G27: Vr. Parcial
B28: C1301001 | C28: CUADRILLA DE CONSTRUCCIÓN TIPO 1 (1 OFICIAL + 1 AYUDANTE) | D28: HC | F28: 0.6 | G28: =F28*E28 -> 0
G29: =F29*E29 -> 0
B30: Total Mano de Obra | G30: =SUM(G28:G29) -> 0
B32: Transporte
B33: Código | C33: Descripción | D33: U.M. | E33: Vr. Unitario | F33: Cantidad | G33: Vr. Parcial
B34: ABC001 | C34: HERRAMIENTA Y EQUIPO MENOR | D34: % | E34: =$G$30 -> 0 | F34: 0.03 | G34: =F34*E34 -> 0
G35: =F35*E35 -> 0
B36: Total Transporte | G36: =SUM(G34:G35) -> 0
B38: Total Costos Directo | G38: =INT(G36+G30+G24+G18) -> 0
B39: Factor Incremento | F39: 1 | G39: =G38*F39 -> 0
B40: Administracion | F40: ='AIU%'!$I$48 -> 0.15 | G40: =F40*G39 -> 0
B41: Imprevistos | F41: 0 | G41: =F41*G39 -> 0
B42: Utilidad | F42: 0.05 | G42: =F42*G39 -> 0
B43: IVA Sobre la Utilidad | F43: 0.19 | G43: =F43*G42 -> 0
B45: TOTAL | G45: =G43+G42+G41+G40+G39 -> 0

Sheet M-3.02
B4: MEMORIA DE CANTIDAD
B6: Nombre del Proyecto | C6: MATENIMIENTO Y RESTAURACION FACHADAS DE LOS BLOQUES 1, 2, 3 Y TORREON CAMPUS VALLE DEL LILI | E6: Fecha | F6: SEPT 2026 | G6: Versión | H6: PRELIMINAR
B7: Objeto Proyecto | C7: CONTRATO A TODO COSTO PARA LA REPACIÓN, MANTENIMINETO Y RESTAURACIÓN DE LAS FACHADAS DE LOS BLOQUES 1, 2, 3 Y TORREON DE LA UNIVERSIDAD LIBRE - SECCIONAL CALI | E7: Capítulo | F7: ='3.02'!E8 -> 3. REPELLOS E IMPERMEABILIZACIONES
B8: Contratista | C8: POR DEFINIR
B9: Código | C9: ="M-" & '3.02'!C9 -> M-3.02
B10: Actividad | C10: ='3.02'!C10 -> SUMINISTRO E INSTALACIÓN DE REPELLO. INCLUYE MORTERO 1:3 IMPERMEABLIZADO CON TOXEMENT 1A O SIMILAR
B11: Unidad Medida | C11: ='3.02'!C11 -> M2
B13: DESCRIPCIÓN | C13: DIMENSIONES
C14: LONGITUD m | D14: ANCHO m | E14: ALTURA m | F14: =C11 -> M2 | G14: N° DE UNIDADES | H14: SUBTOTAL
B15: TORRE 1
B16: FACHADA OCCIDENTAL | C16: 3 | E16: 19.6 | F16: =ROUND(IF(C16=0,1,C16)*IF(D16=0,1,D16)*IF(E16=0,1,E16),2) -> 58.8 | G16: 1 | H16: =F16*G16 -> 58.8
C17: 9 | E17: 5.6 | F17: =ROUND(IF(C17=0,1,C17)*IF(D17=0,1,D17)*IF(E17=0,1,E17),2) -> 50.4 | G17: 1 | H17: =F17*G17 -> 50.4
C18: 9 | E18: 19.6 | F18: =ROUND(IF(C18=0,1,C18)*IF(D18=0,1,D18)*IF(E18=0,1,E18),2) -> 176.4 | G18: 1 | H18: =F18*G18 -> 176.4
B19: FACHADA NORTE | C19: 9 | E19: 19.6 | F19: =ROUND(IF(C19=0,1,C19)*IF(D19=0,1,D19)*IF(E19=0,1,E19),2) -> 176.4 | G19: 1 | H19: =F19*G19 -> 176.4
C20: 34 | E20: 1.5 | F20: =ROUND(IF(C20=0,1,C20)*IF(D20=0,1,D20)*IF(E20=0,1,E20),2) -> 51 | G20: 1 | H20: =F20*G20 -> 51
C21: 34 | E21: 2.3 | F21: =ROUND(IF(C21=0,1,C21)*IF(D21=0,1,D21)*IF(E21=0,1,E21),2) -> 78.2 | G21: 1 | H21: =F21*G21 -> 78.2
B22: COLUMNAS | C22: 42 | E22: 3 | F22: =ROUND(IF(C22=0,1,C22)*IF(D22=0,1,D22)*IF(E22=0,1,E22),2) -> 126 | G22: 11 | H22: =F22*G22 -> 1386
B23: FACHADA SUR | C23: 32 | E23: 1.6 | F23: =ROUND(IF(C23=0,1,C23)*IF(D23=0,1,D23)*IF(E23=0,1,E23),2) -> 51.2 | G23: 2 | H23: =F23*G23 -> 102.4
B24: ANTEPECHOS | C24: 42 | E24: 3 | F24: =ROUND(IF(C24=0,1,C24)*IF(D24=0,1,D24)*IF(E24=0,1,E24),2) -> 126 | G24: 11 | H24: =F24*G24 -> 1386
B25: TORRE 2
B26: FACHADA ORIENTAL | C26: 3 | E26: 19.6 | F26: =ROUND(IF(C26=0,1,C26)*IF(D26=0,1,D26)*IF(E26=0,1,E26),2) -> 58.8 | G26: 1 | H26: =F26*G26 -> 58.8
C27: 9 | E27: 5.6 | F27: =ROUND(IF(C27=0,1,C27)*IF(D27=0,1,D27)*IF(E27=0,1,E27),2) -> 50.4 | G27: 1 | H27: =F27*G27 -> 50.4
C28: 9 | E28: 19.6 | F28: =ROUND(IF(C28=0,1,C28)*IF(D28=0,1,D28)*IF(E28=0,1,E28),2) -> 176.4 | G28: 1 | H28: =F28*G28 -> 176.4
B29: FACHADA NORTE | C29: 9 | E29: 19.6 | F29: =ROUND(IF(C29=0,1,C29)*IF(D29=0,1,D29)*IF(E29=0,1,E29),2) -> 176.4 | G29: 1 | H29: =F29*G29 -> 176.4
C30: 34 | E30: 1.5 | F30: =ROUND(IF(C30=0,1,C30)*IF(D30=0,1,D30)*IF(E30=0,1,E30),2) -> 51 | G30: 1 | H30: =F30*G30 -> 51
C31: 34 | E31: 2.3 | F31: =ROUND(IF(C31=0,1,C31)*IF(D31=0,1,D31)*IF(E31=0,1,E31),2) -> 78.2 | G31: 1 | H31: =F31*G31 -> 78.2
B32: ANTEPECHOS | C32: 42 | E32: 3 | F32: =ROUND(IF(C32=0,1,C32)*IF(D32=0,1,D32)*IF(E32=0,1,E32),2) -> 126 | G32: 11 | H32: =F32*G32 -> 1386
B33: FACHADA SUR | C33: 32 | E33: 1.6 | F33: =ROUND(IF(C33=0,1,C33)*IF(D33=0,1,D33)*IF(E33=0,1,E33),2) -> 51.2 | G33: 2 | H33: =F33*G33 -> 102.4
B34: ANTEPECHOS | C34: 42 | E34: 3 | F34: =ROUND(IF(C34=0,1,C34)*IF(D34=0,1,D34)*IF(E34=0,1,E34),2) -> 126 | G34: 11 | H34: =F34*G34 -> 1386
B36: EDIFICIO TORREÓN
B37: FACHADA OCCIDENTAL | C37: 1.5 | E37: 18.45 | F37: =ROUND(IF(C37=0,1,C37)*IF(D37=0,1,D37)*IF(E37=0,1,E37),2) -> 27.68 | G37: 2 | H37: =F37*G37 -> 55.36
C38: 8.3 | E38: 18.45 | F38: =ROUND(IF(C38=0,1,C38)*IF(D38=0,1,D38)*IF(E38=0,1,E38),2) -> 153.14 | G38: 1 | H38: =F38*G38 -> 153.14
C39: 1.9 | E39: 18.45 | F39: =ROUND(IF(C39=0,1,C39)*IF(D39=0,1,D39)*IF(E39=0,1,E39),2) -> 35.06 | G39: 2 | H39: =F39*G39 -> 70.12
B40: FACHADA ORIENTAL | C40: 1.5 | E40: 18.45 | F40: =ROUND(IF(C40=0,1,C40)*IF(D40=0,1,D40)*IF(E40=0,1,E40),2) -> 27.68 | G40: 2 | H40: =F40*G40 -> 55.36
C41: 8.3 | E41: 18.45 | F41: =ROUND(IF(C41=0,1,C41)*IF(D41=0,1,D41)*IF(E41=0,1,E41),2) -> 153.14 | G41: 1 | H41: =F41*G41 -> 153.14
C42: 1.9 | E42: 18.45 | F42: =ROUND(IF(C42=0,1,C42)*IF(D42=0,1,D42)*IF(E42=0,1,E42),2) -> 35.06 | G42: 2 | H42: =F42*G42 -> 70.12
B43: FACHADA NORTE | C43: 1.9 | E43: 18.45 | F43: =ROUND(IF(C43=0,1,C43)*IF(D43=0,1,D43)*IF(E43=0,1,E43),2) -> 35.06 | G43: 2 | H43: =F43*G43 -> 70.12
C44: 11.66 | E44: 1.6 | F44: =ROUND(IF(C44=0,1,C44)*IF(D44=0,1,D44)*IF(E44=0,1,E44),2) -> 18.66 | G44: 4 | H44: =F44*G44 -> 74.64
B45: VOLUMENES PARTE SUPERIOR
C46: 21 | E46: 0.9 | F46: =ROUND(IF(C46=0,1,C46)*IF(D46=0,1,D46)*IF(E46=0,1,E46),2) -> 18.9 | G46: 2 | H46: =F46*G46 -> 37.8
...

Sheet 3.03
B4: ANALISIS DE PRECIOS UNITARIOS
B6: Nombre del Proyecto | C6: MATENIMIENTO Y RESTAURACION FACHADAS DE LOS BLOQUES 1, 2, 3 Y TORREON CAMPUS VALLE DEL LILI | D6: Fecha | E6: SEPT 2026 | F6: Versión | G6: PRELIMINAR
B7: Objeto Proyecto | C7: CONTRATO A TODO COSTO PARA LA REPACIÓN, MANTENIMINETO Y RESTAURACIÓN DE LAS FACHADAS DE LOS BLOQUES 1, 2, 3 Y TORREON DE LA UNIVERSIDAD LIBRE - SECCIONAL CALI | D7: No. de Contrato | E7: 001
B8: Contratista | C8: POR DEFINIR | D8: Capítulo | E8: 3. REPELLOS E IMPERMEABILIZACIONES
B9: Código | C9: 3.03
B10: Actividad | C10: SUMINISTRO E INSTALACIÓN DE REPELLO PARA CARTERAS. INCLUYE MORTERO 1:3 IMPERMEABLIZADO CON TOXEMENT 1A O SIMILAR
B11: Unidad Medida | C11: ML
J12: 0.6
B13: Materiales
B14: Código | C14: Descripción | D14: U.M. | E14: Vr. Unitario | F14: Cantidad | G14: Vr. Parcial
C15: MORTERO 1:3 | D15: M3 | F15: =1.05*0.02*J12 -> 0.0126 | G15: =F15*E15 -> 0
C16: TOXEMENT 1A | D16: KG | F16: =1/330*J12 -> 0.0018181818 | G16: =F16*E16 -> 0
G17: =F17*E17 -> 0
B18: Total Materiales | G18: =SUM(G15:G17) -> 0
B20: Equipos
B21: Código | C21: Descripción | D21: U.M. | E21: Vr. Unitario | F21: Cantidad | G21: Vr. Parcial
G23: =F23*E23 -> 0
B24: Total Equipos | G24: =SUM(G22:G23) -> 0
B26: Mano de Obra
B27: Código | C27: Descripción | D27: U.M. | E27: Vr. Unitario | F27: Cantidad | G27: Vr. Parcial
B28: C1301001 | C28: CUADRILLA DE CONSTRUCCIÓN TIPO 1 (1 OFICIAL + 1 AYUDANTE) | D28: HC | F28: =0.6*J12 -> 0.36 | G28: =F28*E28 -> 0
G29: =F29*E29 -> 0
B30: Total Mano de Obra | G30: =SUM(G28:G29) -> 0
B32: Transporte
B33: Código | C33: Descripción | D33: U.M. | E33: Vr. Unitario | F33: Cantidad | G33: Vr. Parcial
B34: ABC001 | C34: HERRAMIENTA Y EQUIPO MENOR | D34: % | E34: =$G$30 -> 0 | F34: 0.03 | G34: =F34*E34 -> 0
G35: =F35*E35 -> 0
B36: Total Transporte | G36: =SUM(G34:G35) -> 0
B38: Total Costos Directo | G38: =INT(G36+G30+G24+G18) -> 0
B39: Factor Incremento | F39: 1 | G39: =G38*F39 -> 0
B40: Administracion | F40: ='AIU%'!$I$48 -> 0.15 | G40: =F40*G39 -> 0
B41: Imprevistos | F41: 0 | G41: =F41*G39 -> 0
B42: Utilidad | F42: 0.05 | G42: =F42*G39 -> 0
B43: IVA Sobre la Utilidad | F43: 0.19 | G43: =F43*G42 -> 0
B45: TOTAL | G45: =G43+G42+G41+G40+G39 -> 0

Sheet M-3.03
B4: MEMORIA DE CANTIDAD
B6: Nombre del Proyecto | C6: MATENIMIENTO Y RESTAURACION FACHADAS DE LOS BLOQUES 1, 2, 3 Y TORREON CAMPUS VALLE DEL LILI | E6: Fecha | F6: SEPT 2026 | G6: Versión | H6: PRELIMINAR
B7: Objeto Proyecto | C7: CONTRATO A TODO COSTO PARA LA REPACIÓN, MANTENIMINETO Y RESTAURACIÓN DE LAS FACHADAS DE LOS BLOQUES 1, 2, 3 Y TORREON DE LA UNIVERSIDAD - SECCIONAL CALI | E7: Capítulo | F7: ='3.03'!E8 -> 3. REPELLOS E IMPERMEABILIZACIONES
B8: Contratista | C8: POR DEFINIR
B9: Código | C9: ="M-" & '3.03'!C9 -> M-3.03
B10: Actividad | C10: ='3.03'!C10 -> SUMINISTRO E INSTALACIÓN DE REPELLO PARA CARTERAS. INCLUYE MORTERO 1:3 IMPERMEABLIZADO CON TOXEMENT 1A O SIMILAR
B11: Unidad Medida | C11: ='3.03'!C11 -> ML
B13: DESCRIPCIÓN | C13: DIMENSIONES
C14: LONGITUD m | D14: ANCHO m | E14: ALTURA m | F14: =C11 -> ML | G14: N° DE UNIDADES | H14: SUBTOTAL
B16: TORRE 1
B17: VIGAS | C17: 34 | E17: 0.5 | F17: =ROUND(IF(C17=0,1,C17)*IF(D17=0,1,D17)*IF(E17=0,1,E17),2) -> 17 | G17: 3 | H17: 51
B18: VIGAS | C18: 32 | E18: 0.5 | F18: =ROUND(IF(C18=0,1,C18)*IF(D18=0,1,D18)*IF(E18=0,1,E18),2) -> 16 | G18: 2 | H18: 32
B19: COLUMNAS | C19: 0.43 | E19: 2.86 | F19: =ROUND(IF(C19=0,1,C19)*IF(D19=0,1,D19)*IF(E19=0,1,E19),2) -> 1.23 | G19: 6 | H19: 32
B20: TORRE 2
B21: VIGAS | C21: 34 | E21: 0.5 | F21: =ROUND(IF(C21=0,1,C21)*IF(D21=0,1,D21)*IF(E21=0,1,E21),2) -> 17 | G21: 3 | H21: 51
B23: FACHADA OCCIDENTAL TORRE 3
B24: PISO 4 | C24: 26 | F24: =ROUND(IF(C24=0,1,C24)*IF(D24=0,1,D24)*IF(E24=0,1,E24),2) -> 26 | G24: 1 | H24: =F24*G24 -> 26
B25: PISO 3 | C25: 26 | F25: =ROUND(IF(C25=0,1,C25)*IF(D25=0,1,D25)*IF(E25=0,1,E25),2) -> 26 | G25: 1 | H25: =F25*G25 -> 26
B26: PISO 2 ANTEPECHO | C26: 26 | F26: =ROUND(IF(C26=0,1,C26)*IF(D26=0,1,D26)*IF(E26=0,1,E26),2) -> 26 | G26: 1 | H26: =F26*G26 -> 26
B27: COLUMETAS | C27: 13.5 | F27: =ROUND(IF(C27=0,1,C27)*IF(D27=0,1,D27)*IF(E27=0,1,E27),2) -> 13.5 | G27: 5 | H27: =F27*G27 -> 67.5
B31: SUBTOTAL | H31: =ROUND(SUM(H16:H30),2) -> 311.5
B32: TOTAL | H32: =H31 -> 311.5
B35: REGISTRO FOTOGRÁFICO DE OBRA

Sheet 4.01
B4: ANALISIS DE PRECIOS UNITARIOS
B6: Nombre del Proyecto | C6: MATENIMIENTO Y RESTAURACION FACHADAS DE LOS BLOQUES 1, 2, 3 Y TORREON CAMPUS VALLE DEL LILI | D6: Fecha | E6: SEPT 2026 | F6: Versión | G6: PRELIMINAR
B7: Objeto Proyecto | C7: CONTRATO A TODO COSTO PARA LA REPACIÓN, MANTENIMINETO Y RESTAURACIÓN DE LAS FACHADAS DE LOS BLOQUES 1, 2, 3 Y TORREON DE LA UNIVERSIDAD LIBRE- SECCIONAL CALI | D7: No. de Contrato | E7: 001
B8: Contratista | C8: POR DEFINIR | D8: Capítulo | E8: 4. ACABADOS DE FACHADA
B9: Código | C9: 4.01
B10: Actividad | C10: SUMINISTRO Y APLICACION GRANIPLAST ALTA CALIDAD COLOR BLANCO Y GRIS
B11: Unidad Medida | C11: M2
B13: Materiales
B14: Código | C14: Descripción | D14: U.M. | E14: Vr. Unitario | F14: Cantidad | G14: Vr. Parcial
B15: A0601007 | C15: GRANIPLAST | D15: KG | F15: 4 | G15: =F15*E15 -> 0
G16: =F16*E16 -> 0
B17: Total Materiales | G17: =SUM(G15:G16) -> 0
B19: Equipos
B20: Código | C20: Descripción | D20: U.M. | E20: Vr. Unitario | F20: Cantidad | G20: Vr. Parcial
B21: ABC001 | C21: HERRAMIENTA Y EQUIPO MENOR | D21: % | F21: 0.03 | G21: =F21*E21 -> 0
G22: =F22*E22 -> 0
B23: Total Equipos | G23: =SUM(G21:G22) -> 0
B25: Mano de Obra
B26: Código | C26: Descripción | D26: U.M. | E26: Vr. Unitario | F26: Cantidad | G26: Vr. Parcial
B27: C1301027 | C27: CUADRILLA PINTURA TIPO 1 (1 OFICIAL PINTOR + 1 AYUDANTES PINTOR) | D27: HC | F27: 0.6 | G27: =F27*E27 -> 0
G28: =F28*E28 -> 0
B29: Total Mano de Obra | G29: =SUM(G27:G28) -> 0
B31: Transporte
B32: Código | C32: Descripción | D32: U.M. | E32: Vr. Unitario | F32: Cantidad | G32: Vr. Parcial
G34: =F34*E34 -> 0
B35: Total Transporte | G35: =SUM(G33:G34) -> 0
B37: Total Costos Directo | G37: =ROUND(G35+G29+G23+G17,0) -> 0
B38: Factor Incremento | F38: 1 | G38: =G37*F38 -> 0
B39: Administracion | F39: ='AIU%'!$I$48 -> 0.15 | G39: =F39*G38 -> 0
B40: Imprevistos | F40: 0 | G40: =F40*G38 -> 0
B41: Utilidad | F41: 0.05 | G41: =F41*G38 -> 0
B42: IVA Sobre la Utilidad | F42: 0.19 | G42: =F42*G41 -> 0
B44: TOTAL | G44: =G42+G41+G40+G39+G38 -> 0

Sheet M-4.01
B4: MEMORIA DE CANTIDAD
B6: Nombre del Proyecto | C6: MATENIMIENTO Y RESTAURACION FACHADAS DE LOS BLOQUES 1, 2, 3 Y TORREON CAMPUS VALLE DEL LILI | E6: Fecha | F6: SEPT 2026 | G6: Versión | H6: PRELIMINAR
B7: Objeto Proyecto | C7: CONTRATO A TODO COSTO PARA LA REPACIÓN, MANTENIMINETO Y RESTAURACIÓN DE LAS FACHADAS DE LOS BLOQUES 1, 2, 3 Y TORREON DE LA UNIVERSIDAD- SECCIONAL CALI | E7: Capítulo | F7: ='4.01'!E8 -> 4. ACABADOS DE FACHADA
B8: Contratista | C8: POR DEFINIR
B9: Código | C9: ="M-" & '4.01'!C9 -> M-4.01
B10: Actividad | C10: ='4.01'!C10 -> SUMINISTRO Y APLICACION GRANIPLAST ALTA CALIDAD COLOR BLANCO Y GRIS
B11: Unidad Medida | C11: ='4.01'!C11 -> M2
B13: DESCRIPCIÓN | C13: DIMENSIONES
C14: LONGITUD m | D14: ANCHO m | E14: ALTURA m | F14: =C11 -> M2 | G14: N° DE UNIDADES | H14: SUBTOTAL
B15: TORRE 1
B16: FACHADA OCCIDENTAL | C16: 3 | E16: 19.6 | F16: =ROUND(IF(C16=0,1,C16)*IF(D16=0,1,D16)*IF(E16=0,1,E16),2) -> 58.8 | G16: 1 | H16: =F16*G16 -> 58.8
C17: 9 | E17: 5.6 | F17: =ROUND(IF(C17=0,1,C17)*IF(D17=0,1,D17)*IF(E17=0,1,E17),2) -> 50.4 | G17: 1 | H17: =F17*G17 -> 50.4
C18: 9 | E18: 19.6 | F18: =ROUND(IF(C18=0,1,C18)*IF(D18=0,1,D18)*IF(E18=0,1,E18),2) -> 176.4 | G18: 1 | H18: =F18*G18 -> 176.4
B19: FACHADA NORTE | C19: 9 | E19: 19.6 | F19: =ROUND(IF(C19=0,1,C19)*IF(D19=0,1,D19)*IF(E19=0,1,E19),2) -> 176.4 | G19: 1 | H19: =F19*G19 -> 176.4
C20: 34 | E20: 1.5 | F20: =ROUND(IF(C20=0,1,C20)*IF(D20=0,1,D20)*IF(E20=0,1,E20),2) -> 51 | G20: 1 | H20: =F20*G20 -> 51
C21: 34 | E21: 2.3 | F21: =ROUND(IF(C21=0,1,C21)*IF(D21=0,1,D21)*IF(E21=0,1,E21),2) -> 78.2 | G21: 1 | H21: =F21*G21 -> 78.2
B22: ANTEPECHOS | C22: 42 | E22: 3 | F22: =ROUND(IF(C22=0,1,C22)*IF(D22=0,1,D22)*IF(E22=0,1,E22),2) -> 126 | G22: 11 | H22: =F22*G22 -> 1386
B23: ANTEPECHOS | C23: 32 | E23: 1.6 | F23: =ROUND(IF(C23=0,1,C23)*IF(D23=0,1,D23)*IF(E23=0,1,E23),2) -> 51.2 | G23: 2 | H23: =F23*G23 -> 102.4
B24: ANTEPECHOS | C24: 42 | E24: 3 | F24: =ROUND(IF(C24=0,1,C24)*IF(D24=0,1,D24)*IF(E24=0,1,E24),2) -> 126 | G24: 11 | H24: =F24*G24 -> 1386
B25: TORRE 2
B26: FACHADA ORIENTAL | C26: 3 | E26: 19.6 | F26: =ROUND(IF(C26=0,1,C26)*IF(D26=0,1,D26)*IF(E26=0,1,E26),2) -> 58.8 | G26: 1 | H26: =F26*G26 -> 58.8
C27: 9 | E27: 5.6 | F27: =ROUND(IF(C27=0,1,C27)*IF(D27=0,1,D27)*IF(E27=0,1,E27),2) -> 50.4 | G27: 1 | H27: =F27*G27 -> 50.4
C28: 9 | E28: 19.6 | F28: =ROUND(IF(C28=0,1,C28)*IF(D28=0,1,D28)*IF(E28=0,1,E28),2) -> 176.4 | G28: 1 | H28: =F28*G28 -> 176.4
B29: FACHADA NORTE | C29: 9 | E29: 19.6 | F29: =ROUND(IF(C29=0,1,C29)*IF(D29=0,1,D29)*IF(E29=0,1,E29),2) -> 176.4 | G29: 1 | H29: =F29*G29 -> 176.4
C30: 34 | E30: 1.5 | F30: =ROUND(IF(C30=0,1,C30)*IF(D30=0,1,D30)*IF(E30=0,1,E30),2) -> 51 | G30: 1 | H30: =F30*G30 -> 51
C31: 34 | E31: 2.3 | F31: =ROUND(IF(C31=0,1,C31)*IF(D31=0,1,D31)*IF(E31=0,1,E31),2) -> 78.2 | G31: 1 | H31: =F31*G31 -> 78.2
B32: ANTEPECHOS | C32: 42 | E32: 3 | F32: =ROUND(IF(C32=0,1,C32)*IF(D32=0,1,D32)*IF(E32=0,1,E32),2) -> 126 | G32: 11 | H32: =F32*G32 -> 1386
B33: FACHADA SUR | C33: 32 | E33: 1.6 | F33: =ROUND(IF(C33=0,1,C33)*IF(D33=0,1,D33)*IF(E33=0,1,E33),2) -> 51.2 | G33: 2 | H33: =F33*G33 -> 102.4
B34: ANTEPECHOS | C34: 42 | E34: 3 | F34: =ROUND(IF(C34=0,1,C34)*IF(D34=0,1,D34)*IF(E34=0,1,E34),2) -> 126 | G34: 11 | H34: =F34*G34 -> 1386
B36: EDIFICIO TORREÓN
B37: FACHADA OCCIDENTAL | C37: 1.5 | E37: 18.45 | F37: =ROUND(IF(C37=0,1,C37)*IF(D37=0,1,D37)*IF(E37=0,1,E37),2) -> 27.68 | G37: 2 | H37: =F37*G37 -> 55.36
C38: 8.3 | E38: 18.45 | F38: =ROUND(IF(C38=0,1,C38)*IF(D38=0,1,D38)*IF(E38=0,1,E38),2) -> 153.14 | G38: 1 | H38: =F38*G38 -> 153.14
C39: 1.9 | E39: 18.45 | F39: =ROUND(IF(C39=0,1,C39)*IF(D39=0,1,D39)*IF(E39=0,1,E39),2) -> 35.06 | G39: 2 | H39: =F39*G39 -> 70.12
B40: FACHADA ORIENTAL | C40: 1.5 | E40: 18.45 | F40: =ROUND(IF(C40=0,1,C40)*IF(D40=0,1,D40)*IF(E40=0,1,E40),2) -> 27.68 | G40: 2 | H40: =F40*G40 -> 55.36
C41: 8.3 | E41: 18.45 | F41: =ROUND(IF(C41=0,1,C41)*IF(D41=0,1,D41)*IF(E41=0,1,E41),2) -> 153.14 | G41: 1 | H41: =F41*G41 -> 153.14
C42: 1.9 | E42: 18.45 | F42: =ROUND(IF(C42=0,1,C42)*IF(D42=0,1,D42)*IF(E42=0,1,E42),2) -> 35.06 | G42: 2 | H42: =F42*G42 -> 70.12
B43: FACHADA NORTE | C43: 1.9 | E43: 18.45 | F43: =ROUND(IF(C43=0,1,C43)*IF(D43=0,1,D43)*IF(E43=0,1,E43),2) -> 35.06 | G43: 2 | H43: =F43*G43 -> 70.12
C44: 11.66 | E44: 1.6 | F44: =ROUND(IF(C44=0,1,C44)*IF(D44=0,1,D44)*IF(E44=0,1,E44),2) -> 18.66 | G44: 4 | H44: =F44*G44 -> 74.64
B46: VOLUMENES PARTE SUPERIOR
C47: 21 | E47: 0.9 | F47: =ROUND(IF(C47=0,1,C47)*IF(D47=0,1,D47)*IF(E47=0,1,E47),2) -> 18.9 | G47: 2 | H47: =F47*G47 -> 37.8
...

Sheet 4.02
B4: ANALISIS DE PRECIOS UNITARIOS
B6: Nombre del Proyecto | C6: MATENIMIENTO Y RESTAURACION FACHADAS DE LOS BLOQUES 1, 2, 3 Y TORREON CAMPUS VALLE DEL LILI | D6: Fecha | E6: SEPT 2026 | F6: Versión | G6: PRELIMINAR
B7: Objeto Proyecto | C7: CONTRATO A TODO COSTO PARA LA REPACIÓN, MANTENIMINETO Y RESTAURACIÓN DE LAS FACHADAS DE LOS BLOQUES 1, 2, 3 Y TORREON DE LA UNIVERSIDAD - SECCIONAL CALI | D7: No. de Contrato | E7: 001
B8: Contratista | C8: POR DEFINIR | D8: Capítulo | E8: 4. ACABADOS DE FACHADA
B9: Código | C9: 4.02
B10: Actividad | C10: SUMINISTRO Y APLICACION GRANIPLAST ALTA CALIDAD PARA CARTERAS COLOR BLANCO Y GRIS
B11: Unidad Medida | C11: ML
B13: Materiales | J13: 0.6
B14: Código | C14: Descripción | D14: U.M. | E14: Vr. Unitario | F14: Cantidad | G14: Vr. Parcial
B15: A0601007 | C15: GRANIPLAST | D15: KG | F15: =4*J13 -> 2.4 | G15: =F15*E15 -> 0
G16: =F16*E16 -> 0
B17: Total Materiales | G17: =SUM(G15:G16) -> 0
B19: Equipos
B20: Código | C20: Descripción | D20: U.M. | E20: Vr. Unitario | F20: Cantidad | G20: Vr. Parcial
B21: ABC001 | C21: HERRAMIENTA Y EQUIPO MENOR | D21: % | E21: =$G$29 -> 0 | F21: 0.03 | G21: =F21*E21 -> 0
